BEGIN:VCALENDAR
VERSION:2.0
PRODID:-//MJC Teyran - ECPv6.15.20//NONSGML v1.0//EN
CALSCALE:GREGORIAN
METHOD:PUBLISH
X-ORIGINAL-URL:https://mjcteyran.com
X-WR-CALDESC:Évènements pour MJC Teyran
REFRESH-INTERVAL;VALUE=DURATION:PT1H
X-Robots-Tag:noindex
X-PUBLISHED-TTL:PT1H
BEGIN:VTIMEZONE
TZID:Europe/Paris
BEGIN:DAYLIGHT
TZOFFSETFROM:+0100
TZOFFSETTO:+0200
TZNAME:CEST
DTSTART:20250330T010000
END:DAYLIGHT
BEGIN:STANDARD
TZOFFSETFROM:+0200
TZOFFSETTO:+0100
TZNAME:CET
DTSTART:20251026T010000
END:STANDARD
BEGIN:DAYLIGHT
TZOFFSETFROM:+0100
TZOFFSETTO:+0200
TZNAME:CEST
DTSTART:20260329T010000
END:DAYLIGHT
BEGIN:STANDARD
TZOFFSETFROM:+0200
TZOFFSETTO:+0100
TZNAME:CET
DTSTART:20261025T010000
END:STANDARD
BEGIN:DAYLIGHT
TZOFFSETFROM:+0100
TZOFFSETTO:+0200
TZNAME:CEST
DTSTART:20270328T010000
END:DAYLIGHT
BEGIN:STANDARD
TZOFFSETFROM:+0200
TZOFFSETTO:+0100
TZNAME:CET
DTSTART:20271031T010000
END:STANDARD
END:VTIMEZONE
BEGIN:VEVENT
DTSTART;TZID=Europe/Paris:20260308T150000
DTEND;TZID=Europe/Paris:20260308T180000
DTSTAMP:20260419T215301
CREATED:20260225T102435Z
LAST-MODIFIED:20260225T102835Z
UID:11802-1772982000-1772992800@mjcteyran.com
SUMMARY:Carnaval de Teyran : dimanche 8 mars\, 15h\, résidence Aubeterre
DESCRIPTION:Cette année le carnaval de Teyran sera celui des FEMMES À L’HONNEUR\, LE MONDE EN COULEUR ! Rendez-vous à 15h à la maison de retraite d’Aubeterre pour le défilé\, animations et buvette à partir de 16h00 au Camp de Liouse.  \nCollecte de fonds organisée au profit de la Fondation des Femmes au niveau de la buvette. \n  \n15h – RDV à la Résidence Aubeterre – EHPAD de Teyran  \nDéfilé devant les résidents  \nAnimation musicale assurée par la fanfare Lady Jaja et démonstration de danse percussive par Marie-Adeline CHOQUET.  \n15h30 – Déambulation vers la MJC avec la fanfare Lady Jaja accompagnée d’une animation dansée avec Marie-Adeline CHOQUET.  \n16h – Démonstrations de danse contemporaine et danses latines par les élèves de la MJC de Teyran au niveau du Skatepark.  \n16h-17h30 – ANIMATIONS / JEUX sur le Terrain de Tambourin  \n\nJeux en bois de la MJC \nAtelier de danse percussive avec Marie-Adeline CHOQUET\nAtelier de peinture fluide avec Frédérique CHABERT\nActivité artistique/coloriage\nStand maquillage avec Karine MARTINEAU\nAtelier danses latines avec Muriel BUOSI\nCréation de masques avec Marion DEMEULE\nPetits jeux avec l’ESPACE JEUNES\nZone zen\n\nANIMATION MUSICALE  durant l’après-midi avec le DJ Hugo CORBEAU et la fanfare Lady Jaja \n17h30 – Concert du groupe de rock de la MJC de Teyran accompagnée d’une danse guidée de Marie-Adeline CHOQUET \nBUVETTE avec sucreries et boissons à vendre (pensez à prendre de la monnaie) \n  \nOn vous y attend colorés\, prêts à partager un moment convivial\, festif et haut en couleur !   \n  \nInfos : evs@mjcteyran.com – 04 67 70 70 80
URL:https://mjcteyran.com/evenement/carnaval-de-teyran-dimanche-8-mars-15h-residence-aubeterre/
ATTACH;FMTTYPE=image/png:https://mjcteyran.com/wp-content/uploads/2026/02/fevrier-2026-12.png
END:VEVENT
BEGIN:VEVENT
DTSTART;TZID=Europe/Paris:20260310T173000
DTEND;TZID=Europe/Paris:20260310T190000
DTSTAMP:20260419T215301
CREATED:20260216T131431Z
LAST-MODIFIED:20260217T111236Z
UID:11770-1773163800-1773169200@mjcteyran.com
SUMMARY:Raconte moi une histoire : mardi 10 mars\, 17h30-19h\, Salle EVS
DESCRIPTION:Et si vous preniez un moment pour ralentir\, créer et partager un moment ensemble ? \nCet atelier parent-enfant vous invite à partager un souvenir vécu\, a le raconter autrement que par les mots et à le transformer en création grâce au Journal Créatif ( écriture\, dessin\, collage)\, une approche ludique et créative développée par Anne-Marie Jobin . \nPas besoin de savoir dessiner ou écrire : ici\, on joue\, on explore et on crée librement. \nL’important n’est pas le résultat\, mais le plaisir d’être ensemble. Plus d’informations sur le Journal Créatif® sur le site de Aurélie Jeanjean : www.ateliers-de-lili.com.  \nPlaces limitées à 6 binômes. Pour les enfants de 7 ans et plus.  \nGratuit \nInfos et inscriptions auprès de Clémentine : evs@mjcteyran.com ou 06 95 11 38 99.  \n 
URL:https://mjcteyran.com/evenement/raconte-moi-une-histoire-mardi-10-mars-17h30-19h-salle-evs/
ATTACH;FMTTYPE=image/png:https://mjcteyran.com/wp-content/uploads/2026/02/mars-2026-1-1.png
END:VEVENT
BEGIN:VEVENT
DTSTART;TZID=Europe/Paris:20260311T100000
DTEND;TZID=Europe/Paris:20260311T113000
DTSTAMP:20260419T215301
CREATED:20260216T132610Z
LAST-MODIFIED:20260217T111308Z
UID:11772-1773223200-1773228600@mjcteyran.com
SUMMARY:Aquarelle parent-enfant : mercredi 11 et 25 mars\, 10h-11h30\, Point Jeunes
DESCRIPTION:Et si vous plongiez \, le temps d’un atelier \, dans un monde imaginaire ou parent et enfant peignent à quatre mains \, sans attente de « bien faire » \, juste pour le plaisir créer ensemble ? Cet atelier d’aquarelle est une invitation à lâcher-prise\, à se reconnecter dans la simplicité d’un moment partagé. \nNul besoin de savoir dessiner : ici \, on laisse l’espace d’être. Une bulle hors du quotidien pour savourer la complicité\, le rire\, les couleurs… et repartir un peu plus proche. \nTemps animé par Maud\, bénévole de l’EVS. \nGratuit \n  \nInfos et inscriptions auprès de Clémentine : evs@mjcteyran.com ou 04 67 70 70 80.
URL:https://mjcteyran.com/evenement/aquarelle-parent-enfant-mercredi-11-et-25-mars-10h-11h30-point-jeunes/
ATTACH;FMTTYPE=image/png:https://mjcteyran.com/wp-content/uploads/2026/02/mars-2026-2-1.png
END:VEVENT
BEGIN:VEVENT
DTSTART;TZID=Europe/Paris:20260313T190000
DTEND;TZID=Europe/Paris:20260313T203000
DTSTAMP:20260419T215301
CREATED:20260209T094258Z
LAST-MODIFIED:20260209T094258Z
UID:11735-1773428400-1773433800@mjcteyran.com
SUMMARY:Atelier méditation Vendredi 13 mars 19h-20h30 Salle de danse avec Carole MICHINE
DESCRIPTION:Atelier accessible à tous \nDans le rythme parfois chargé du quotidien avec cet atelier je vous propose une pause pour revenir à l’essentiel. \nUn premier moment de libération par le corps à travers des pratiques simples de mouvement respiration. \nSuivi d’une séance d’hypno-méditation guidée pour apaiser le mental et laisser l’inconscient intégrer le relâchement. \nUn espace bienveillant pour se reconnecter à soi\, relâcher les tensions et repartir plus léger(e) \nTarif : 20 /personne \nRenseignements ou réservation MICHINE Carole : Tél :  06 80 42 24 93
URL:https://mjcteyran.com/evenement/atelier-meditation-vendredi-13-mars-19h-20h30-salle-de-danse-avec-carole-michine/
ATTACH;FMTTYPE=image/png:https://mjcteyran.com/wp-content/uploads/2026/02/mars-2026.png
END:VEVENT
BEGIN:VEVENT
DTSTART;TZID=Europe/Paris:20260315T100000
DTEND;TZID=Europe/Paris:20260315T120000
DTSTAMP:20260419T215301
CREATED:20260209T103038Z
LAST-MODIFIED:20260209T130712Z
UID:11745-1773568800-1773576000@mjcteyran.com
SUMMARY:Atelier Broderie Dimanche 15 mars 10h-12h Salle Arts Plastiques avec Marion DEMEULE
DESCRIPTION:De 7 à 77 ans \nLe stage de broderie\, c’est apprendre à broder à la main: grâce à l’apprentissage de plusieurs points\, vous serez en capacité de décorer et customiser vos vêtements et accessoires comme un sacs en toile\, des pantalons ou des vestes en jean\, des T-shirts\, robe… Aucune connaissance en couture n’est nécessaire. \nTarif : 20 euro \nInfos et inscriptions au 04 67 70 80 ou à\naccueil@mjcteyran.com \n 
URL:https://mjcteyran.com/evenement/atelier-broderie-dimanche-15-mars-10h-12h-salle-arts-plastiques-avec-marion-demeuble/
ATTACH;FMTTYPE=image/png:https://mjcteyran.com/wp-content/uploads/2026/02/mars-2026-1.png
END:VEVENT
BEGIN:VEVENT
DTSTART;TZID=Europe/Paris:20260318T100000
DTEND;TZID=Europe/Paris:20260318T120000
DTSTAMP:20260419T215301
CREATED:20260216T133715Z
LAST-MODIFIED:20260216T143501Z
UID:11774-1773828000-1773835200@mjcteyran.com
SUMMARY:Mains créatives : mercredi 18 mars\, 10h MJC de Teyran
DESCRIPTION:Les mains créatives c’est un temps organisé une fois par mois ou toute les mains se mêlent pour faire ensemble autour d’un atelier créatif ! \nNous nous retrouvons en accueil libre de 10h à 12h au sein de la MJC ! \nInfo et inscription auprès de Clémentine : evs@mjcteyran.com ou 06 95 11 38 99 \n 
URL:https://mjcteyran.com/evenement/mains-creatives-mercredi-18-mars-10h-mjc-de-teyran/
ATTACH;FMTTYPE=image/png:https://mjcteyran.com/wp-content/uploads/2026/02/mars-2026-5.png
END:VEVENT
BEGIN:VEVENT
DTSTART;TZID=Europe/Paris:20260321T100000
DTEND;TZID=Europe/Paris:20260321T170000
DTSTAMP:20260419T215301
CREATED:20260209T100504Z
LAST-MODIFIED:20260217T111953Z
UID:11741-1774087200-1774112400@mjcteyran.com
SUMMARY:Stage Dessin Samedi 21 mars 10h-17h Salle Arts Plastiques
DESCRIPTION:Ancienne élève des beaux arts\, Mimi vous aidera à comprendre et réaliser un dessin au crayon durant ce stage sur des bases simples (selon modèle défini). \nVous n’êtes pas obligé de maîtriser les bases en dessin\, ce stage s’adresse autant aux débutants qu’aux personnes ayant quelques bases de dessin. Laissez-vous tenter par le dessin d’observation ou le dessin de compréhension ! \nDessinons sérieusement sans nous prendre au sérieux !  \nTarif : 35€ / personne (matériel fourni) \nInfos et inscriptions au 04 67 70 70 80.
URL:https://mjcteyran.com/evenement/stage-dessin-samedi-21-mars-10h-17h-salle-arts-plastiques/
ATTACH;FMTTYPE=image/png:https://mjcteyran.com/wp-content/uploads/2026/02/mars-2026-3.png
END:VEVENT
BEGIN:VEVENT
DTSTART;TZID=Europe/Paris:20260322T120000
DTEND;TZID=Europe/Paris:20260322T120000
DTSTAMP:20260419T215301
CREATED:20260216T134612Z
LAST-MODIFIED:20260217T112031Z
UID:11777-1774180800-1774180800@mjcteyran.com
SUMMARY:Dimanche Partagé : Dimanche 22 mars\, 12h\, MJC de teyran
DESCRIPTION:Corinne et Roland Corbeau accueillent les familles et accompagnant.e.s de jeunes en situation de handicap pour des activités adaptées autour de la danse. Bonne humeur\, repas et créativité à partager ! \nA partir de 12 ans.  \n5€ par personne ou 10€ par famille (2 personnes et plus).  \nInfos et réservation nécessaires auprès de Corinne au 06 81 21 69 09.
URL:https://mjcteyran.com/evenement/dimanche-partage-dimanche-22-mars-12h-mjc-de-teyran/
ATTACH;FMTTYPE=image/jpeg:https://mjcteyran.com/wp-content/uploads/2023/06/Copie-de-WhatsApp-Image-2022-05-16-at-06.48.051.jpeg
END:VEVENT
BEGIN:VEVENT
DTSTART;TZID=Europe/Paris:20260327T180000
DTEND;TZID=Europe/Paris:20260327T180000
DTSTAMP:20260419T215301
CREATED:20260327T175255Z
LAST-MODIFIED:20260216T135702Z
UID:11779-1774634400-1774634400@mjcteyran.com
SUMMARY:Ciné kids : Vendredi 27 mars\, 18h MJC de Teyran
DESCRIPTION:Ciné kids c’est une séance de cinéma pour les enfants et les grands ou on regarde un petit film ensemble et puis après par le jeu\, par les mots ou par le corps on en discute. Au ciné kids on parle d’amour \, de famille\, de différences de citoyenneté ! \nGratuit \nInfo et inscription auprès de Clémentine : evs@mjcteyran.com ou 06 95 11 38 99
URL:https://mjcteyran.com/evenement/cine-kids-vendredi-27-mars-18h-mjc-de-teyran/
ATTACH;FMTTYPE=image/png:https://mjcteyran.com/wp-content/uploads/2026/02/mars-2026-4.png
END:VEVENT
BEGIN:VEVENT
DTSTART;TZID=Europe/Paris:20260327T180000
DTEND;TZID=Europe/Paris:20260327T190000
DTSTAMP:20260419T215301
CREATED:20260217T112149Z
LAST-MODIFIED:20260217T112149Z
UID:11792-1774634400-1774638000@mjcteyran.com
SUMMARY:Ciné kids : vendredi 27 mars\, 18h\, MJC de Teyran
DESCRIPTION:Ciné kids c’est une séance de cinéma pour les enfants et les grands où on regarde un petit film ensemble et puis après par le jeu\, par les mots ou par le corps on en discute. Au ciné kids on parle d’amour\, de famille\, de différences\, de citoyenneté !  \nGratuit \nInfos et inscriptions auprès de Clémentine : evs@mjcteyran.com ou 06 95 11 38 99.
URL:https://mjcteyran.com/evenement/cine-kids-vendredi-27-mars-18h-mjc-de-teyran-2/
ATTACH;FMTTYPE=image/png:https://mjcteyran.com/wp-content/uploads/2026/02/mars-2026-4.png
END:VEVENT
BEGIN:VEVENT
DTSTART;TZID=Europe/Paris:20260329T170000
DTEND;TZID=Europe/Paris:20260329T170000
DTSTAMP:20260419T215301
CREATED:20260209T105152Z
LAST-MODIFIED:20260209T132635Z
UID:11747-1774803600-1774803600@mjcteyran.com
SUMMARY:Concert chorale La Clé des chants et LO COCUT Dimanche 29 mars 17h Maison des Chœurs à Montpellier
DESCRIPTION:Les chœurs Lo Cocut de Clapiers et La Clef des Chants de Teyran vous invitent à partager un moment musical placé sous le signe du chant chorale et de la convivialité. \nCe concert sera l’occasion de découvrir deux ensembles passionnés\, reunis pour le plaisir de chanter et de faire vibrer le public dans un lieu dédié à la musique vocale \nParticipation libre
URL:https://mjcteyran.com/evenement/concert-chorale-la-cle-des-chants-et-lo-cocut-dimanche-29-mars-17h-maison-des-choeurs-a-montpellier/
ATTACH;FMTTYPE=image/jpeg:https://mjcteyran.com/wp-content/uploads/2026/02/Concert-CDC-290326.jpg
END:VEVENT
END:VCALENDAR