BEGIN:VCALENDAR
VERSION:2.0
PRODID:-//MJC Teyran - ECPv6.15.20//NONSGML v1.0//EN
CALSCALE:GREGORIAN
METHOD:PUBLISH
X-WR-CALNAME:MJC Teyran
X-ORIGINAL-URL:https://mjcteyran.com
X-WR-CALDESC:Évènements pour MJC Teyran
REFRESH-INTERVAL;VALUE=DURATION:PT1H
X-Robots-Tag:noindex
X-PUBLISHED-TTL:PT1H
BEGIN:VTIMEZONE
TZID:Europe/Paris
BEGIN:DAYLIGHT
TZOFFSETFROM:+0100
TZOFFSETTO:+0200
TZNAME:CEST
DTSTART:20250330T010000
END:DAYLIGHT
BEGIN:STANDARD
TZOFFSETFROM:+0200
TZOFFSETTO:+0100
TZNAME:CET
DTSTART:20251026T010000
END:STANDARD
BEGIN:DAYLIGHT
TZOFFSETFROM:+0100
TZOFFSETTO:+0200
TZNAME:CEST
DTSTART:20260329T010000
END:DAYLIGHT
BEGIN:STANDARD
TZOFFSETFROM:+0200
TZOFFSETTO:+0100
TZNAME:CET
DTSTART:20261025T010000
END:STANDARD
BEGIN:DAYLIGHT
TZOFFSETFROM:+0100
TZOFFSETTO:+0200
TZNAME:CEST
DTSTART:20270328T010000
END:DAYLIGHT
BEGIN:STANDARD
TZOFFSETFROM:+0200
TZOFFSETTO:+0100
TZNAME:CET
DTSTART:20271031T010000
END:STANDARD
END:VTIMEZONE
BEGIN:VEVENT
DTSTART;TZID=Europe/Paris:20260108T180000
DTEND;TZID=Europe/Paris:20260108T200000
DTSTAMP:20260420T004130
CREATED:20251215T151350Z
LAST-MODIFIED:20251215T151350Z
UID:11592-1767895200-1767902400@mjcteyran.com
SUMMARY:Jeudi 8 janvier 2026\, 18h à la MJC : la rentrée des bénévoles
DESCRIPTION:Nouvelle année rime avec nouvelles résolutions ? Pas du tout !  \nNouvelle année rime avec s’engager à la MJC ! \nCher.e.s bénévoles vous êtes convié.e.s à venir vous rencontrer\, échanger autour des actions à venir mais surtout grignoter et rigoler au sein de la MJC.  \nQue vous ayez déjà été bénévole ou que vous aimeriez l’être\, vous êtes bienvenu.e.s à ce temps.  \nAu programme : des rencontres\, des jeux\, de la joie et un apéritif pour vous célébrer !  \nInfos et inscriptions auprès de Clémentine : evs@mjcteyran.com ou 06 95 11 38 99.
URL:https://mjcteyran.com/evenement/jeudi-8-janvier-2026-18h-a-la-mjc-la-rentree-des-benevoles/
ATTACH;FMTTYPE=image/png:https://mjcteyran.com/wp-content/uploads/2025/12/janvier-2026-1.png
END:VEVENT
BEGIN:VEVENT
DTSTART;TZID=Europe/Paris:20260110T100000
DTEND;TZID=Europe/Paris:20260110T130000
DTSTAMP:20260420T004130
CREATED:20260107T163752Z
LAST-MODIFIED:20260107T163752Z
UID:11653-1768039200-1768050000@mjcteyran.com
SUMMARY:Journée Portes ouvertes à l'Espace Jeunes !
DESCRIPTION:
URL:https://mjcteyran.com/evenement/journee-portes-ouvertes-a-lespace-jeunes/
LOCATION:Espace Jeunes\, Rue des sports\, Teyran\, 34820\, France
END:VEVENT
BEGIN:VEVENT
DTSTART;TZID=Europe/Paris:20260111T100000
DTEND;TZID=Europe/Paris:20260111T120000
DTSTAMP:20260420T004130
CREATED:20251215T151504Z
LAST-MODIFIED:20251215T151504Z
UID:11595-1768125600-1768132800@mjcteyran.com
SUMMARY:Dimanche 11 janvier : Atelier Loisirs créatifs de 10h à 12h avec Marion DEMEULE
DESCRIPTION:Envie de créer quelque chose de beau\, de surprenant et de fait main ?\nRejoignez-nous pour un atelier ludique et accessible à tous : de 7 à 77 ans (et plus!). \nPendant 2 heures\, nous apprendrons à réaliser des cartes pop-up\, ces cartes qui s’ouvrent… et cachent une surprise en 3D ! Pas besoin d’être un pro du dessin : quelques feuilles\, des ciseaux et un peu d’imagination suffisent pour fabriquer une carte. \nC’est parfait pour offrir ou garder comme petit trésor. \nUn moment créatif et convivial à partager ! \nPrêt(e) à donner vie à vos idées ? La magie du papier vous attend !  \nTarif : 20€ sur inscription au 04 67 70 70 80 ou à accueil@mjcteyran.com
URL:https://mjcteyran.com/evenement/dimanche-11-janvier-atelier-loisirs-creatifs-de-10h-a-12h-avec-marion-demeule/
ATTACH;FMTTYPE=image/png:https://mjcteyran.com/wp-content/uploads/2025/12/janvier-2026-2.png
END:VEVENT
BEGIN:VEVENT
DTSTART;TZID=Europe/Paris:20260117T100000
DTEND;TZID=Europe/Paris:20260117T123000
DTSTAMP:20260420T004130
CREATED:20251215T151624Z
LAST-MODIFIED:20251215T151624Z
UID:11598-1768644000-1768653000@mjcteyran.com
SUMMARY:Atelier « Célébrer 2025 & s’élancer vers 2026 » avec le Journal Créatif® Samedi 17 janvier de 10h à 12h30
DESCRIPTION:Public : adultes et adolescents \nTarif : 30€ (matériel inclus) \n  \nEn ce début d’année\, offrez-vous une parenthèse inspirante à la MJC de Teyran. \nGuidée par Aurélie Jeanjean\, sophrologue et accompagnatrice en Journal Créatif®\, cette séance est pensée comme un moment pour se déposer\, faire un bilan en toute \nbienveillance et ouvrir un nouvel espace intérieur pour accueillir 2026 avec clarté\, douceur \net élan. \n  \nAu programme : Un temps pour reconnaître\, célébrer et déposer votre année 2025\, sans \npression ni jugement. Puis\, création d’un visionboard : un tableau d’intentions visuel\, vibrant \net unique\, pour clarifier vos envies\, vos besoins et vos priorités pour l’année à venir. \nÀ travers le Journal Créatif®\, vous serez guidée pas à pas grâce à l’écriture\, au dessin et au \ncollage. Aucun talent artistique n’est nécessaire : vous venez comme vous êtes. \nInfos et inscriptions accueil@mjcteyran.com ou au 04 67 70 70 80.
URL:https://mjcteyran.com/evenement/atelier-celebrer-2025-selancer-vers-2026-avec-le-journal-creatif-samedi-17-janvier-de-10h-a-12h30/
ATTACH;FMTTYPE=image/png:https://mjcteyran.com/wp-content/uploads/2025/12/janvier-2026-3.png
END:VEVENT
BEGIN:VEVENT
DTSTART;TZID=Europe/Paris:20260118T093000
DTEND;TZID=Europe/Paris:20260118T173000
DTSTAMP:20260420T004130
CREATED:20251215T151747Z
LAST-MODIFIED:20251215T151747Z
UID:11601-1768728600-1768757400@mjcteyran.com
SUMMARY:Dimanche 18 janvier : Atelier Yoga Enfants de 9h30 à 17h30
DESCRIPTION:Par le yoga sous forme ludique\, le massage\, le jonglage\, le jeu\, et différentes formes de créativité\, permettre l’éveil et le développement physique et mental de l’enfant.\n\nDe 6 à 12 ans  \n9h30 – 17h30 à la MJC  \n45€/ jour /enfant 10€ d’adhésion par personne à l’association EVEIL Repas tiré du sac \nInscriptions avec Yannick QUENET au 06 67 89 57 39 ou au 04 67 70 70 80.
URL:https://mjcteyran.com/evenement/dimanche-18-janvier-atelier-yoga-enfants-de-9h30-a-17h30/
ATTACH;FMTTYPE=image/png:https://mjcteyran.com/wp-content/uploads/2025/12/janvier-2026-5.png
END:VEVENT
BEGIN:VEVENT
DTSTART;TZID=Europe/Paris:20260118T130000
DTEND;TZID=Europe/Paris:20260118T170000
DTSTAMP:20260420T004130
CREATED:20251215T151850Z
LAST-MODIFIED:20251215T151850Z
UID:11604-1768741200-1768755600@mjcteyran.com
SUMMARY:Dimanche 18 janvier : ATELIER CONSTELLATION FAMILIALE de 13h à 17h
DESCRIPTION:Expérience forte à vivre au moyen de son corps et de ses émotions pour aller vers plus d’équilibre et de mieux-être. \nLe but des constellations est de rétablir l’ordre dans le système familial et de permettre à chaque membre d’avoir sa juste place et d’assumer ses responsabilités. Il devient alors plus simple de se libérer de ce que l’on a pris sur nous par loyauté et qui ne nous appartient pas.  \n Deux possibilités : \n – Être constellé(e) : Je travaille sur quelque chose qui me pose un problème aujourd’hui dans ma vie avec le groupe (entretien préalable en individuel\, seul l’objectif est dévoilé au groupe\, le reste de l’histoire personnelle reste confidentiel). \n – Etre représentant(e) : Je me mets au service du constellé(e) et représente un membre ou un concept de son histoire.  \nTarifs MJC: 20 € / représentant et 70 € / constellé(e) \n10 participants maximum \nSalle Multi-activités \nInscription et renseignements au 06.80.42.24.93
URL:https://mjcteyran.com/evenement/dimanche-18-janvier-atelier-constellation-familiale-de-13h-a-17h/
ATTACH;FMTTYPE=image/png:https://mjcteyran.com/wp-content/uploads/2025/12/janvier-2026-7.png
END:VEVENT
BEGIN:VEVENT
DTSTART;TZID=Europe/Paris:20260120T100000
DTEND;TZID=Europe/Paris:20260120T120000
DTSTAMP:20260420T004130
CREATED:20251215T151957Z
LAST-MODIFIED:20251215T151957Z
UID:11607-1768903200-1768910400@mjcteyran.com
SUMMARY:Mardi 20 janvier 2026\, 10h-12h à la MJC : C’est moi kfé : visser\, percer et clouer le bec aux planchers
DESCRIPTION:« C’est moi kfé »\, c’est un moment pour s’entraider\, partager des astuces et apprendre à réparer ensemble. C’est aussi un temps pour se retrouver\, discuter\, boire un café…  \nL’atelier est animé par des bénévoles passionné.e.s\, pas par des pros\, alors si votre objet vous est très cher (ou très fragile) : il sera peut être mieux chez un réparateur agréé.  \nCette fois-ci c’est notre super bénévole Roland qui peut nous apprendre à percer\, clouer\, visser des planches en tous genres ! \nInfos et inscriptions auprès de Clémentine : evs@mjcteyran.com ou 06 95 11 38 99.
URL:https://mjcteyran.com/evenement/mardi-20-janvier-2026-10h-12h-a-la-mjc-cest-moi-kfe-visser-percer-et-clouer-le-bec-aux-planchers/
ATTACH;FMTTYPE=image/png:https://mjcteyran.com/wp-content/uploads/2025/12/janvier-2026-4.png
END:VEVENT
BEGIN:VEVENT
DTSTART;TZID=Europe/Paris:20260121T080000
DTEND;TZID=Europe/Paris:20260121T170000
DTSTAMP:20260420T004130
CREATED:20260121T145032Z
LAST-MODIFIED:20260121T145032Z
UID:11695-1768982400-1769014800@mjcteyran.com
SUMMARY:Mardi 24 février : Course du coeur 10h-16h\, Dans le village et à la MJC
DESCRIPTION:La course du cœur est une action solidaire initiée par les jeunes de l’Espace Jeunes de Teyran afin de récolter des denrées alimentaires non périssables et des produits d’hygiène pour les reverser à la banque alimentaire de Teyran.  \nLes jeunes viendront vous échanger des objets qu’ils auront fabriqués pour vous remercier de votre geste ! \nOn compte sur votre générosité !  \nDe 10h à 16h les jeunes réaliseront un porte à porte dans Teyran\, le parcours détaillé sera partagé sur le facebook de l’Espace Jeunes courant février. En parallèle\, une permanence pour déposer vos dons sera tenue à la MJC de Teyran.  \nPlus d’infos auprès de Marine : ejteyran@gmail.com ou 07 69 06 08 37.
URL:https://mjcteyran.com/evenement/mardi-24-fevrier-course-du-coeur-10h-16h-dans-le-village-et-a-la-mjc/
ATTACH;FMTTYPE=image/png:https://mjcteyran.com/wp-content/uploads/2026/01/fevrier-2026-8.png
END:VEVENT
BEGIN:VEVENT
DTSTART;TZID=Europe/Paris:20260121T103000
DTEND;TZID=Europe/Paris:20260121T113000
DTSTAMP:20260420T004130
CREATED:20251215T152056Z
LAST-MODIFIED:20251215T152056Z
UID:11610-1768991400-1768995000@mjcteyran.com
SUMMARY:Mercredi 21 janvier 2026\, 10h30-11h30 à la maison de retraite d’Aubeterre : Mains créatives\, création d’une fresque de nouvelle année
DESCRIPTION:Les mains créatives c’est un temps organisé une fois par mois où toutes les mains se mêlent pour faire ensemble autour d’un atelier créatif !  \nCette fois-ci\, dans un esprit de rencontre intergénérationnelle\, nous nous retrouvons à l’EHPAD d’Aubeterre pour créer ensemble une fresque collective pour la nouvelle année.  \nInfos et inscriptions auprès de Clémentine : evs@mjcteyran.com ou 06 95 11 38 99.
URL:https://mjcteyran.com/evenement/mercredi-21-janvier-2026-10h30-11h30-a-la-maison-de-retraite-daubeterre-mains-creatives-creation-dune-fresque-de-nouvelle-annee/
ATTACH;FMTTYPE=image/png:https://mjcteyran.com/wp-content/uploads/2025/12/janvier-2026-6.png
END:VEVENT
BEGIN:VEVENT
DTSTART;TZID=Europe/Paris:20260124T100000
DTEND;TZID=Europe/Paris:20260124T173000
DTSTAMP:20260420T004130
CREATED:20251215T152217Z
LAST-MODIFIED:20260107T143324Z
UID:11613-1769248800-1769275800@mjcteyran.com
SUMMARY:Samedi 24 janvier : Stage PASTEL avec MIMI
DESCRIPTION:Si vous voulez découvrir le pastel\, il existe des solutions… \nMimi vous propose cette technique qui vous permettra d’obtenir dès le premier cours un résultat satisfaisant sans contraintes. \nDifférents modèles vous seront proposés pour vous guider et repartir à la fin du stage avec un dessin que vous emporterez chez vous. \n  \nDe 10h à 12h – 14h à 17h30 ( prévoir casse croûte) \nTarif : 35 euros par personne (matériel fourni) \n Inscription obligatoire
URL:https://mjcteyran.com/evenement/samedi-24-janvier-stage-dessin-avec-mimi/
ATTACH;FMTTYPE=image/jpeg:https://mjcteyran.com/wp-content/uploads/2025/12/affiche-01-2026-1.jpg
END:VEVENT
BEGIN:VEVENT
DTSTART;TZID=Europe/Paris:20260128T140000
DTEND;TZID=Europe/Paris:20260128T153000
DTSTAMP:20260420T004130
CREATED:20251216T143054Z
LAST-MODIFIED:20251216T143054Z
UID:11628-1769608800-1769614200@mjcteyran.com
SUMMARY:Mercredi 28 janvier 2026\, 14h-15h30 à la MJC : Raconte-moi une histoire
DESCRIPTION:“Raconte moi une histoire” c’est un atelier de Journal Créatif® parents-enfants pour offrir un temps pour explorer les émotions en famille sur le thème d’un moment de joie partagé. C’est un espace bienveillant\, doux et créatif pour partager un souvenir réconfortant d’un moment vécu ensemble.  \n  \nPlaces limitées à 6 binômes. Pour les enfants de 7 ans et plus. GRATUIT \nInfos et inscriptions : evs@mjcteyran.com ou 06 95 11 38 99. 
URL:https://mjcteyran.com/evenement/mercredi-28-janvier-2026-14h-15h30-a-la-mjc-raconte-moi-une-histoire/
ATTACH;FMTTYPE=image/png:https://mjcteyran.com/wp-content/uploads/2025/12/janvier-2026-10.png
END:VEVENT
BEGIN:VEVENT
DTSTART;TZID=Europe/Paris:20260130T180000
DTEND;TZID=Europe/Paris:20260130T200000
DTSTAMP:20260420T004130
CREATED:20251215T152351Z
LAST-MODIFIED:20260115T164249Z
UID:11616-1769796000-1769803200@mjcteyran.com
SUMMARY:Vendredi 30 janvier 2026\, 18h à la MJC : EVS kézako\, présentation du nouveau projet social
DESCRIPTION:Nous vous invitons à venir en apprendre plus sur l’Espace de Vie Sociale Trait-D-Union de la MJC de Teyran.  \nDurant l’année 2025\, nous vous avons sollicité pour participer à l’élaboration du nouveau projet social de l’Espace de VIe Sociale. Ce projet est un contrat entre nous pour faire de l’EVS un espace d’expression\, d’expérimentation et de rencontres sur Teyran. Un espace par vous\, qui vous ressemble et pour vous\, qui ressemble à vos envies.  \nSi l’idée de faire partie d’un lieu de vie et d’échanges sur Teyran vous fait envie\, venez nous rencontrer !  \nApéritif offert  \nInfos et inscriptions auprès de Clémentine : evs@mjcteyran.com ou 06 95 11 38 99
URL:https://mjcteyran.com/evenement/mardi-27-janvier-2026-18h-a-la-mjc-evs-kezako-presentation-du-nouveau-projet-social/
ATTACH;FMTTYPE=image/png:https://mjcteyran.com/wp-content/uploads/2025/12/janvier-2026-8.png
END:VEVENT
END:VCALENDAR