BEGIN:VCALENDAR
VERSION:2.0
PRODID:-//MJC Teyran - ECPv6.15.20//NONSGML v1.0//EN
CALSCALE:GREGORIAN
METHOD:PUBLISH
X-WR-CALNAME:MJC Teyran
X-ORIGINAL-URL:https://mjcteyran.com
X-WR-CALDESC:Évènements pour MJC Teyran
REFRESH-INTERVAL;VALUE=DURATION:PT1H
X-Robots-Tag:noindex
X-PUBLISHED-TTL:PT1H
BEGIN:VTIMEZONE
TZID:Europe/Paris
BEGIN:DAYLIGHT
TZOFFSETFROM:+0100
TZOFFSETTO:+0200
TZNAME:CEST
DTSTART:20240331T010000
END:DAYLIGHT
BEGIN:STANDARD
TZOFFSETFROM:+0200
TZOFFSETTO:+0100
TZNAME:CET
DTSTART:20241027T010000
END:STANDARD
BEGIN:DAYLIGHT
TZOFFSETFROM:+0100
TZOFFSETTO:+0200
TZNAME:CEST
DTSTART:20250330T010000
END:DAYLIGHT
BEGIN:STANDARD
TZOFFSETFROM:+0200
TZOFFSETTO:+0100
TZNAME:CET
DTSTART:20251026T010000
END:STANDARD
BEGIN:DAYLIGHT
TZOFFSETFROM:+0100
TZOFFSETTO:+0200
TZNAME:CEST
DTSTART:20260329T010000
END:DAYLIGHT
BEGIN:STANDARD
TZOFFSETFROM:+0200
TZOFFSETTO:+0100
TZNAME:CET
DTSTART:20261025T010000
END:STANDARD
END:VTIMEZONE
BEGIN:VEVENT
DTSTART;TZID=Europe/Paris:20251004T100000
DTEND;TZID=Europe/Paris:20251004T120000
DTSTAMP:20260420T051131
CREATED:20250909T125722Z
LAST-MODIFIED:20250909T125722Z
UID:11407-1759572000-1759579200@mjcteyran.com
SUMMARY:Samedi 4 octobre 2025\, 10h à la Salle de la Bergerie : L’Occitanie qu’es aquo ?
DESCRIPTION:En octobre 2024\, l’artiste occitan Joanda était venu à Teyran pour réaliser une balade théâtralisée (« le Duo d’Aqui ») qui avait rencontré un beau succès. \nCette année\, Joanda revient pour nous proposer un spectacle en salle autour de la culture du pays occitan. \nSamedi 4 octobre\, juste avant la semaine bleue\, Joanda sera donc présent à Teyran pour présenter le spectacle « l’Occitanie\, qu’es aquò ? ». \nIl s’agit d’une présentation ludique et conviviale de ce qu’est l’occitan \naujourd’hui\, entre patrimoine\, langue et culture\, ce tour d’horizon se fait au \ntravers de chansons\, de projections vidéos\, et d’échanges avec le public. \n  \nDurée : 1h15\, suivi d’un verre de l’amistat offert aux participants \n  \nCette action est réalisée grâce à la CFPPA Hérault. Elle est ouverte à tous les publics\, dans un esprit intergénérationnel. \n  \nGratuit\, sur inscription : evs@mjcteyran.com ou 06 95 11 38 99 
URL:https://mjcteyran.com/evenement/samedi-4-octobre-2025-10h-a-la-salle-de-la-bergerie-loccitanie-ques-aquo/
END:VEVENT
BEGIN:VEVENT
DTSTART;TZID=Europe/Paris:20251008T103000
DTEND;TZID=Europe/Paris:20251008T113000
DTSTAMP:20260420T051131
CREATED:20250909T125921Z
LAST-MODIFIED:20250909T125921Z
UID:11409-1759919400-1759923000@mjcteyran.com
SUMMARY:Mercredi 8 octobre 2025\, 10h30-11h30 à l’EHPAD d’Aubeterre : Atelier les mains créatives\, réalisation de décorations pour halloween
DESCRIPTION:Les mains créatives c’est un temps organisé une fois par mois où toutes les mains se mêlent pour faire ensemble autour d’un atelier créatif !  \nCette fois-ci\, à l’occasion de la semaine bleue\, dans un esprit de rencontre intergénérationnelle\, nous nous retrouvons à l’EHPAD d’Aubeterre pour créer ensemble des décorations pour Halloween.  \nInfos et inscriptions : evs@mjcteyran.com ou 06 95 11 38 99
URL:https://mjcteyran.com/evenement/mercredi-8-octobre-2025-10h30-11h30-a-lehpad-daubeterre-atelier-les-mains-creatives-realisation-de-decorations-pour-halloween/
ATTACH;FMTTYPE=image/png:https://mjcteyran.com/wp-content/uploads/2025/09/mains-crea.png
END:VEVENT
BEGIN:VEVENT
DTSTART;TZID=Europe/Paris:20251009T150000
DTEND;TZID=Europe/Paris:20251009T170000
DTSTAMP:20260420T051131
CREATED:20250909T131046Z
LAST-MODIFIED:20250909T131046Z
UID:11412-1760022000-1760029200@mjcteyran.com
SUMMARY:Jeudi 9 octobre 2025\, 15h-17h à la MJC : C’est moi kfé\, réparons nos petits objets électriques
DESCRIPTION:« C’est moi kfé »\, c’est un moment pour s’entraider\, partager des astuces et apprendre à réparer ensemble. C’est aussi un temps pour se retrouver\, discuter\, boire un café…  \nL’atelier est animé par des bénévoles passionné.e.s\, pas par des pros\, alors si votre objet vous est très cher (ou très fragile) : il sera peut être mieux chez un réparateur agréé.  \nCette fois-ci c’est nos super bénévoles André et Roland qui peuvent nous aider à réparer nos petits objets électriques un peu fatigués (lampe de chevet\, grille-pain\, rallonges électriques…) \nInfos et inscriptions : evs@mjcteyran.com ou 06 95 11 38 99
URL:https://mjcteyran.com/evenement/jeudi-9-octobre-2025-15h-17h-a-la-mjc-cest-moi-kfe-reparons-nos-petits-objets-electriques/
ATTACH;FMTTYPE=image/png:https://mjcteyran.com/wp-content/uploads/2025/09/C-MOI-KFe.png
END:VEVENT
BEGIN:VEVENT
DTSTART;TZID=Europe/Paris:20251010T090000
DTEND;TZID=Europe/Paris:20251010T120000
DTSTAMP:20260420T051131
CREATED:20250909T131149Z
LAST-MODIFIED:20250909T131149Z
UID:11415-1760086800-1760097600@mjcteyran.com
SUMMARY:Vendredi 10 octobre 2025\, 9h à la Salle des fêtes : Rando apéro
DESCRIPTION:Envie d’un grand bol d’air frais ?  \nLes bénévoles du club randonnée de la MJC de Teyran vous invitent à une randonnée bien-être de 8 km\, entre Mazet et le Plan d’Ailas.  \nEn parallèle\, une seconde randonnée vous est proposée\, incluant un atelier de découverte botanique\, pour les curieux et curieuses de nature. \nÀ l’arrivée\, un apéritif convivial réunira les participants et participantes au niveau de Camp de Liouse.  \nDépart des deux randonnées à 9h devant la salle des fêtes de Teyran.  \nInfos et inscriptions : evs@mjcteyran.com ou 06 95 11 38 99
URL:https://mjcteyran.com/evenement/vendredi-10-octobre-2025-9h-a-la-salle-des-fetes-rando-apero/
END:VEVENT
BEGIN:VEVENT
DTSTART;TZID=Europe/Paris:20251012T110000
DTEND;TZID=Europe/Paris:20251012T120000
DTSTAMP:20260420T051131
CREATED:20251001T143710Z
LAST-MODIFIED:20251001T143710Z
UID:11459-1760266800-1760270400@mjcteyran.com
SUMMARY:Belle Donne
DESCRIPTION:
URL:https://mjcteyran.com/evenement/belle-donne/
ATTACH;FMTTYPE=application/pdf:https://mjcteyran.com/wp-content/uploads/2025/10/Affiche-Spectacle-Delle-Donne.pdf
END:VEVENT
BEGIN:VEVENT
DTSTART;TZID=Europe/Paris:20251017T190000
DTEND;TZID=Europe/Paris:20251017T210000
DTSTAMP:20260420T051131
CREATED:20250909T131231Z
LAST-MODIFIED:20250909T131231Z
UID:11417-1760727600-1760734800@mjcteyran.com
SUMMARY:Vendredi 17 octobre 2025\, 19h à la Salle de la Bergerie : Parlons-en ! Les écrans : outil d’émancipation ou d’aliénation ?
DESCRIPTION:Les écrans occupent une place centrale dans nos vies. Mais à quel prix ?\nSommes-nous en train de devenir dépendants\, voire moins lucides ou s’agit-il simplement d’un nouvel outil d’expression\, d’apprentissage et de lien social ? \nQue nous disent les recherches en neurosciences et en sociologie sur l’impact des écrans sur nos cerveaux et nos comportements ? \nEnvie d’en savoir plus\, d’échanger sur les différents points de vue ou de simplement écouter ? Venez participer à ce moment d’échange animé par Christel Touret.  \nInfos et inscriptions : evs@mjcteyran.com ou 06 95 11 38 99
URL:https://mjcteyran.com/evenement/vendredi-17-octobre-2025-19h-a-la-salle-de-la-bergerie-parlons-en-les-ecrans-outil-demancipation-ou-dalienation/
END:VEVENT
BEGIN:VEVENT
DTSTART;TZID=Europe/Paris:20251018T100000
DTEND;TZID=Europe/Paris:20251018T123000
DTSTAMP:20260420T051131
CREATED:20251006T152945Z
LAST-MODIFIED:20251006T152945Z
UID:11481-1760781600-1760790600@mjcteyran.com
SUMMARY:Atelier ponctuel de Journal Créatif
DESCRIPTION:Ateliers ponctuel de Journal Créatif – Au fil des saisons  \nSamedi 18 Octobre de 10h à 12h30 \nAtelier intergénérationnel (à partir de 12 ans). \nLe Journal Créatif® ne demande aucun « savoir-faire » : il invite simplement à s’amuser\, à créer\, à dire ce qu’on ressent autrement que par des mots. Aurélie vous invite à plonger au cœur du cycle des saisons à travers 4 ateliers créatifs\, ludiques et introspectifs. Chaque séance est une invitation à explorer\, s’exprimer et se recentrer\, tout en se connectant à l’énergie propre à chaque saison. Dans un cadre bienveillant et sans jugement\, découvrez des outils pour cultiver votre bien-être\, mieux vous connaître et avancer ensemble vers plus de sérénité et d’épanouissement. \nL’Automne – L’énergie de la transformation : Une période propice pour se libérer de ce qui ne nous sert plus\, comme les arbres qui laissent tomber leurs feuilles\, et faire de la place pour accueillir de nouvelles possibilités. \nAtelier animé par Aurélie Jeanjean \nPour plus de renseignements : 06 66 92 80 16 – www.ateliers-de-lili.com \n25€ par personne
URL:https://mjcteyran.com/evenement/atelier-ponctuel-de-journal-creatif/
LOCATION:MJC TEYRAN\, rue des sports\, teyran\, 34820
ATTACH;FMTTYPE=image/jpeg:https://mjcteyran.com/wp-content/uploads/2025/10/IMG_8152.jpeg
END:VEVENT
BEGIN:VEVENT
DTSTART;TZID=Europe/Paris:20251031T150000
DTEND;TZID=Europe/Paris:20251031T200000
DTSTAMP:20260420T051131
CREATED:20250909T131340Z
LAST-MODIFIED:20250909T131340Z
UID:11419-1761922800-1761940800@mjcteyran.com
SUMMARY:Vendredi 31 octobre 2025\, à partir de 15h à la MJC : Halloween
DESCRIPTION:Le vendredi 31 octobre\, la MJC\, l’Espace Jeunes\, l’Espace de Vie Sociale\, la médiathèque\, des associations et des artistes de Teyran vous proposent diverses activités pour venir célébrer la fête la plus effrayante et amusante de l’année ! \nAu programme :  \n10h-12h : lectures des contes de la sorcière pour les enfants de 4 à 7 ans accompagnés de leurs parents à la Médiathèque de Teyran  \n  \n15h-16h30 : animations\, goûter et convivialité dans un esprit intergénérationnel à l’EHPAD d’Aubeterre  \n  \n16h30-17h : rendez-vous devant l’EHPAD d’Aubeterre pour entamer un défilé jusqu’au Camp de Liouse  \n  \n17h-18h30 : animations pour tous les goûts et pour tous les âges (lectures\, jeux\, arts plastiques…) au Camp de Liouse  \n  \n18h30 : départ pour une chasse aux bonbons (ou aux sorts !) depuis le Camp de Liouse \n  \nPour rappel\, les enfants doivent être accompagné.e.s d’un adulte. Les costumes sont les bienvenus ! \nInfos et inscriptions :  evs@mjcteyran.com ou 06 95 11 38 99
URL:https://mjcteyran.com/evenement/vendredi-31-octobre-2025-a-partir-de-15h-a-la-mjc-halloween/
END:VEVENT
END:VCALENDAR