BEGIN:VCALENDAR
VERSION:2.0
PRODID:-//MJC Teyran - ECPv6.15.20//NONSGML v1.0//EN
CALSCALE:GREGORIAN
METHOD:PUBLISH
X-WR-CALNAME:MJC Teyran
X-ORIGINAL-URL:https://mjcteyran.com
X-WR-CALDESC:Évènements pour MJC Teyran
REFRESH-INTERVAL;VALUE=DURATION:PT1H
X-Robots-Tag:noindex
X-PUBLISHED-TTL:PT1H
BEGIN:VTIMEZONE
TZID:Europe/Paris
BEGIN:DAYLIGHT
TZOFFSETFROM:+0100
TZOFFSETTO:+0200
TZNAME:CEST
DTSTART:20240331T010000
END:DAYLIGHT
BEGIN:STANDARD
TZOFFSETFROM:+0200
TZOFFSETTO:+0100
TZNAME:CET
DTSTART:20241027T010000
END:STANDARD
BEGIN:DAYLIGHT
TZOFFSETFROM:+0100
TZOFFSETTO:+0200
TZNAME:CEST
DTSTART:20250330T010000
END:DAYLIGHT
BEGIN:STANDARD
TZOFFSETFROM:+0200
TZOFFSETTO:+0100
TZNAME:CET
DTSTART:20251026T010000
END:STANDARD
BEGIN:DAYLIGHT
TZOFFSETFROM:+0100
TZOFFSETTO:+0200
TZNAME:CEST
DTSTART:20260329T010000
END:DAYLIGHT
BEGIN:STANDARD
TZOFFSETFROM:+0200
TZOFFSETTO:+0100
TZNAME:CET
DTSTART:20261025T010000
END:STANDARD
END:VTIMEZONE
BEGIN:VEVENT
DTSTART;TZID=Europe/Paris:20250904T180000
DTEND;TZID=Europe/Paris:20250904T200000
DTSTAMP:20260420T063718
CREATED:20250819T120336Z
LAST-MODIFIED:20250819T120336Z
UID:11314-1757008800-1757016000@mjcteyran.com
SUMMARY:Rentrée des bénévoles
DESCRIPTION:Jeudi 4 septembre 2025\, 18h-20h à la MJC : Rentrée des bénévoles  \n  \nÇa y est c’est la rentrée !  \nCher.e.s bénévoles vous êtes convié.e.s à venir vous rencontrer\, échanger autour des actions à venir mais surtout grignoter et rigoler au sein de la MJC.  \nQue vous ayez déjà été bénévole ou que vous aimeriez l’être\, vous êtes bienvenu.e.s à ce temps.  \nAu programme : des rencontres\, des jeux\, de la joie et un apéritif pour vous célébrer !  \nInfos et inscriptions : evs@mjcteyran.com ou 04 67 70 70 80.
URL:https://mjcteyran.com/evenement/rentree-des-benevoles/
ATTACH;FMTTYPE=image/jpeg:https://mjcteyran.com/wp-content/uploads/2025/08/INSTA-SEPTEMBRE-2025.jpg
END:VEVENT
BEGIN:VEVENT
DTSTART;TZID=Europe/Paris:20250914T130000
DTEND;TZID=Europe/Paris:20250914T170000
DTSTAMP:20260420T063718
CREATED:20250821T090446Z
LAST-MODIFIED:20250821T090446Z
UID:11332-1757854800-1757869200@mjcteyran.com
SUMMARY:Atelier de constellations familiales
DESCRIPTION:
URL:https://mjcteyran.com/evenement/atelier-de-constellations-familiales/
ATTACH;FMTTYPE=image/jpeg:https://mjcteyran.com/wp-content/uploads/2025/08/Constellation-familliale.jpg
END:VEVENT
BEGIN:VEVENT
DTSTART;TZID=Europe/Paris:20250919T183000
DTEND;TZID=Europe/Paris:20250919T200000
DTSTAMP:20260420T063718
CREATED:20250819T120654Z
LAST-MODIFIED:20250819T120654Z
UID:11317-1758306600-1758312000@mjcteyran.com
SUMMARY:Soirée jeux et pot des potes
DESCRIPTION:Vendredi 19 septembre 2025\, à partir de 18h30 à la médiathèque de Teyran : soirée jeux et pot des potes  \n  \nLa soirée jeux s’associe au Pot des Potes pour vous offrir un moment de partage et de bonne humeur ! Venez vous défier\, coopérer\, tester\, rire et explorer une sélection de jeux de société\, en bois\, pour tous les goûts ! Au rendez-vous : Des parents\, des enfants\, des potes\, en situation de handicap ou non\, et surtout des échanges.  \nParticipation de 2€ demandée pour les pizzas.  \nInfos et inscriptions : evs@mjcteyran.com ou au 04 67 70 70 80.
URL:https://mjcteyran.com/evenement/soiree-jeux-et-pot-des-potes/
ATTACH;FMTTYPE=image/jpeg:https://mjcteyran.com/wp-content/uploads/2025/08/INSTA-SEPTEMBRE-2025-1.jpg
END:VEVENT
BEGIN:VEVENT
DTSTART;TZID=Europe/Paris:20250921T080000
DTEND;TZID=Europe/Paris:20250921T170000
DTSTAMP:20260420T063718
CREATED:20250819T120733Z
LAST-MODIFIED:20250819T120756Z
UID:11320-1758441600-1758474000@mjcteyran.com
SUMMARY:Trail des Vendanges
DESCRIPTION:Dimanche 21 septembre 2025\, 9h : Trail des Vendanges  \n  \nLe Trail des Vendanges revient le dimanche 21 septembre 2025 ! Ouvert à tous les niveaux\, cet événement sportif et convivial vous emmène sur les plus beaux sentiers autour de Teyran. \nTrois parcours au choix : \n\n21 km – D+ 225 m\n\n\n12 km – D+ 105 m\n6 km – D+ 70 m (ouvert aux coureurs et aux marcheurs)\n\nCourses enfants gratuites pour une journée familiale et festive. \nPas d’inscription sur place – les dossards partent vite\, pensez à réserver rapidement !\nInscription en ligne uniquement : www.3wsport.com
URL:https://mjcteyran.com/evenement/trail-des-vendanges-2/
END:VEVENT
BEGIN:VEVENT
DTSTART;TZID=Europe/Paris:20250924T100000
DTEND;TZID=Europe/Paris:20250924T120000
DTSTAMP:20260420T063718
CREATED:20250819T120934Z
LAST-MODIFIED:20250819T120934Z
UID:11322-1758708000-1758715200@mjcteyran.com
SUMMARY:Atelier les mains créatives
DESCRIPTION:Mercredi 24 septembre\, 10h-12h à la MJC : Atelier les mains créatives \nAtelier d’aquarelle parent-enfant – Un moment suspendu à créer ensemble animé par Maud \nSelon les mots de Maud :  \nEt si vous plongiez\, le temps d’un atelier\, dans un monde imaginaire où parent et enfant peignent à quatre mains\, sans attente de “bien faire”\, juste pour le plaisir de créer ensemble ? Cet atelier d’aquarelle est une invitation à se lâcher la grappe\, à se reconnecter dans la simplicité d’un moment partagé. Nul besoin de savoir dessiner : ici\, on laisse la magie des pigments faire son œuvre\, comme dans la relation parent-enfant quand on lui laisse l’espace d’être. Une bulle hors du quotidien pour savourer la complicité\, le rire\, les couleurs… et repartir un peu plus proches. \nInfos et inscriptions : evs@mjcteyran.com ou 04 67 70 70 80.
URL:https://mjcteyran.com/evenement/atelier-les-mains-creatives/
ATTACH;FMTTYPE=image/jpeg:https://mjcteyran.com/wp-content/uploads/2025/08/INSTA-SEPTEMBRE-2025-2.jpg
END:VEVENT
END:VCALENDAR