BEGIN:VCALENDAR
VERSION:2.0
PRODID:-//MJC Teyran - ECPv6.15.20//NONSGML v1.0//EN
CALSCALE:GREGORIAN
METHOD:PUBLISH
X-ORIGINAL-URL:https://mjcteyran.com
X-WR-CALDESC:Évènements pour MJC Teyran
REFRESH-INTERVAL;VALUE=DURATION:PT1H
X-Robots-Tag:noindex
X-PUBLISHED-TTL:PT1H
BEGIN:VTIMEZONE
TZID:Europe/Paris
BEGIN:DAYLIGHT
TZOFFSETFROM:+0100
TZOFFSETTO:+0200
TZNAME:CEST
DTSTART:20240331T010000
END:DAYLIGHT
BEGIN:STANDARD
TZOFFSETFROM:+0200
TZOFFSETTO:+0100
TZNAME:CET
DTSTART:20241027T010000
END:STANDARD
BEGIN:DAYLIGHT
TZOFFSETFROM:+0100
TZOFFSETTO:+0200
TZNAME:CEST
DTSTART:20250330T010000
END:DAYLIGHT
BEGIN:STANDARD
TZOFFSETFROM:+0200
TZOFFSETTO:+0100
TZNAME:CET
DTSTART:20251026T010000
END:STANDARD
BEGIN:DAYLIGHT
TZOFFSETFROM:+0100
TZOFFSETTO:+0200
TZNAME:CEST
DTSTART:20260329T010000
END:DAYLIGHT
BEGIN:STANDARD
TZOFFSETFROM:+0200
TZOFFSETTO:+0100
TZNAME:CET
DTSTART:20261025T010000
END:STANDARD
END:VTIMEZONE
BEGIN:VEVENT
DTSTART;TZID=Europe/Paris:20250407T080000
DTEND;TZID=Europe/Paris:20250519T170000
DTSTAMP:20260420T130621
CREATED:20250312T143634Z
LAST-MODIFIED:20250312T143634Z
UID:10368-1744012800-1747674000@mjcteyran.com
SUMMARY:ATELIER détente et mobilité corporelle : Du lundi 7 avril au 19 mai 2025
DESCRIPTION:L’Atelier se compose de 6 séances de 2 heures\, avec une pause de 5-10 minutes à l’issue de la première heure. Il se structure autour de séries de jeux\, d’exercices et de techniques corporels.   \nNous alternons les phases calmes et les phases plus toniques\, les temps individuels et les temps d’échanges en groupe. A chaque séance\, l’intervenant aborde les thèmes suivants :  \n\nJeux de cohésion de groupe \nExercices de mobilisation corporelle \nJeux d’expression corporelle \nTechniques de relaxation \n\nLe déroulement des séances  \n1er temps : mise en relation – se rencontrer  \n2ème temps : respiration et mobilisation corporelle  \n3ème temps : interactivité et expression corporelle  \n4ème temps : détente et lâcher-prise 
URL:https://mjcteyran.com/evenement/atelier-detente-et-mobilite-corporelle-du-lundi-7-avril-au-19-mai-2025/
ATTACH;FMTTYPE=image/png:https://mjcteyran.com/wp-content/uploads/2025/03/Affiche-Brain-Up-Detente-et-mobilite-Teyran-1.png
END:VEVENT
BEGIN:VEVENT
DTSTART;TZID=Europe/Paris:20250501T160000
DTEND;TZID=Europe/Paris:20250501T180000
DTSTAMP:20260420T130621
CREATED:20250312T144551Z
LAST-MODIFIED:20250312T144551Z
UID:10377-1746115200-1746122400@mjcteyran.com
SUMMARY:Théâtre : AVIS DE RECHERCHE ! (Figurants)
DESCRIPTION:Avis aux inconnus\, anciens élèves\, copains\, copines\, sœurs\, frères\, pères\, mères\, grands-mères grands-pères\, oncles\, tantes\, cousins\, amis d’amis !\nLa MJC est à la recherche de figurants/comédiens de + 15 ans pour son nouveau spectacle de fin d’année “ça ira”\, 1ere partie\, de Joël Pommerat.\nVotre rôle : des députés enthousiastes ou indignés de l’Assemblée du Tiers. Votre costume : celui que vous mettriez si vous alliez à l’Assemblée nationale aujourd’hui. Vos compétences requises ? Aucune ! Nous attendons que vous soyez à l’écoute\, rigoureux sur les horaires et enthousiastes.\nAurez-vous du texte à apprendre ? Peut-être une ou deux phrase\, peut-être pas. \n \nLes répétitions auront lieu : \n\nle jeudi 1er mai de 16h à 18h\, \n\n\nle jeudi 8 mai de 16h à 18h\, \n\n\nle samedi 7 juin de 10h à 13h.\n\nLes représentations auront lieu le 7 juin à 19h et le 8 juin à 16h. \nContact et renseignement : 06 84 53 73 24
URL:https://mjcteyran.com/evenement/theatre-avis-de-recherche-figurants/
ATTACH;FMTTYPE=image/png:https://mjcteyran.com/wp-content/uploads/2025/03/Avis-Recherche.png
END:VEVENT
BEGIN:VEVENT
DTSTART;TZID=Europe/Paris:20250506T143000
DTEND;TZID=Europe/Paris:20250506T160000
DTSTAMP:20260420T130621
CREATED:20250422T090911Z
LAST-MODIFIED:20250422T090911Z
UID:10432-1746541800-1746547200@mjcteyran.com
SUMMARY:Peinture fluide
DESCRIPTION:
URL:https://mjcteyran.com/evenement/peinture-fluide/
ATTACH;FMTTYPE=image/png:https://mjcteyran.com/wp-content/uploads/2025/04/MJC-activites-mensuelles-5.png
END:VEVENT
BEGIN:VEVENT
DTSTART;TZID=Europe/Paris:20250514T140000
DTEND;TZID=Europe/Paris:20250514T153000
DTSTAMP:20260420T130621
CREATED:20250425T130028Z
LAST-MODIFIED:20250425T130028Z
UID:10448-1747231200-1747236600@mjcteyran.com
SUMMARY:Atelier bijoux peinture fluide
DESCRIPTION:
URL:https://mjcteyran.com/evenement/atelier-bijoux-peinture-fluide/
ATTACH;FMTTYPE=image/png:https://mjcteyran.com/wp-content/uploads/2025/04/MJC-activites-mensuelles-6.png
END:VEVENT
BEGIN:VEVENT
DTSTART;TZID=Europe/Paris:20250514T183000
DTEND;TZID=Europe/Paris:20250514T200000
DTSTAMP:20260420T130621
CREATED:20250422T090251Z
LAST-MODIFIED:20250422T090251Z
UID:10428-1747247400-1747252800@mjcteyran.com
SUMMARY:Concert de printemps à Teyran !
DESCRIPTION:La MJC de Teyran a le plaisir de vous inviter à un concert exceptionnel\, mettant en avant les talents des pianistes et violonistes de la commune ! \nMercredi 14 mai à 18h30 à la salle des fêtes de Teyran \nVenez découvrir les jeunes talents de Teyran qui vous offriront un concert de musique\, alliant piano et violon. Ce concert promet d’être un joli moment musical dans une ambiance conviviale. \nNous vous attendons nombreux pour célébrer le printemps et les talents de nos jeunes artistes ! \nEntrée libre \nOrganisé par la MJC de Teyran
URL:https://mjcteyran.com/evenement/concert-de-printemps-a-teyran/
END:VEVENT
BEGIN:VEVENT
DTSTART;TZID=Europe/Paris:20250517T140000
DTEND;TZID=Europe/Paris:20250517T180000
DTSTAMP:20260420T130621
CREATED:20250422T090446Z
LAST-MODIFIED:20250422T090446Z
UID:10430-1747490400-1747504800@mjcteyran.com
SUMMARY:Constellations familiales : Samedi 17 Mai de 14h à 18h - Salle de la Bergerie
DESCRIPTION:Expérience forte à vivre au moyen de son corps et de ses émotions pour aller vers plus d’équilibre et de mieux-être. \nLe but des constellations est de rétablir l’ordre dans le système familial et de permettre à chaque membre d’avoir sa juste place et d’assumer ses responsabilités. Il devient alors plus simple de se libérer de ce que l’on a pris sur nous par loyauté et qui ne nous appartient pas.  \n Deux possibilités : \n – Être constellé(e) : Je travaille sur quelque chose qui me pose un problème aujourd’hui dans ma vie avec le groupe (consultation préalable en individuelle 40€). L’objectif est dévoilé au groupe\, le reste de l’histoire personnelle reste confidentiel. \n – Etre représentant(e) : Je me mets au service du constellé(e) et représente un membre ou un concept de son histoire.  \nTarifs MJC: 20 € / représentant et 70 € / constellé(e) \n10 participants maximum. \nInscription obligatoire.
URL:https://mjcteyran.com/evenement/constellations-familiales-samedi-17-mai-de-14h-a-18h-salle-de-la-bergerie/
END:VEVENT
BEGIN:VEVENT
DTSTART;TZID=Europe/Paris:20250517T150000
DTEND;TZID=Europe/Paris:20250517T200000
DTSTAMP:20260420T130621
CREATED:20250422T090152Z
LAST-MODIFIED:20250422T090152Z
UID:10426-1747494000-1747512000@mjcteyran.com
SUMMARY:Danse Contemporaine: 17 Mai 2025 - 15h et 19h30
DESCRIPTION:Le Samedi 17 Mai\, la MJC de Teyran ouvre ses portes sur une 1/2 journée de Danse contemporaine\, \nDes Répétitions à partir de 15H\, (Circulation public Libre) \nUn  spectacle à 19H30. \nAu Programme : Première de Création \n« La lumière des robes » par les danseuses du Groupe Marilyne Ferro \n“Silence\, moteur\, action” par les jeunes danseurs de la cellule technique de l’Atelier Danse de Clapiers\, Dirigée par Damien Launés \nUne dernière création (surprise) par les Adultes de L’Atelier Danses. \nL’évènement aura lieu dans la salle de danse de la MJC de Teyran\, \nRéservations Impératives (Petite Jauge) \n06.62.74.08.76
URL:https://mjcteyran.com/evenement/danse-contemporaine-17-mai-2025-15h-et-19h30/
END:VEVENT
BEGIN:VEVENT
DTSTART;TZID=Europe/Paris:20250520T143000
DTEND;TZID=Europe/Paris:20250520T160000
DTSTAMP:20260420T130621
CREATED:20250422T091020Z
LAST-MODIFIED:20250422T091035Z
UID:10435-1747751400-1747756800@mjcteyran.com
SUMMARY:Peinture fluide
DESCRIPTION:
URL:https://mjcteyran.com/evenement/peinture-fluide-2/
ATTACH;FMTTYPE=image/png:https://mjcteyran.com/wp-content/uploads/2025/04/MJC-activites-mensuelles-5.png
END:VEVENT
BEGIN:VEVENT
DTSTART;TZID=Europe/Paris:20250520T193000
DTEND;TZID=Europe/Paris:20250520T210000
DTSTAMP:20260420T130621
CREATED:20250422T090047Z
LAST-MODIFIED:20250422T090047Z
UID:10423-1747769400-1747774800@mjcteyran.com
SUMMARY:Conférence IKIGAI : Mardi 20 mai 2025 19H30 Salle de La Bergerie
DESCRIPTION:IKIGAÏ ou « qui vaut la peine de vivre » \nAu Japon\, on dit d’une personne qui a beaucoup d’Ikigaï\, qu’elle mène une vie satisfaisante et épanouissante\, qu’elle sait ce pour quoi elle se lève chaque matin. Cette personne\, comme les centenaires de l’île d’Okinawa\, a une espérance de vie plus longue que la normale. Qu’est-ce qu’au juste l’ikigaï ? Et comment le découvrir ? C’est ce que nous verrons lors de cette conférence accompagnée d’exercices pratiques. \n  \nOù : Salle de la bergerie\, Place du Charron\, 34 820 Teyran \n  \nAteliers « découvrir son Ikigaï » :  exercices pratiques nous aidant à prendre conscience de ce que nous aimons faire\, que nous savons faire\, qui est utile pour les autres et  pour lequel nous sommes rémunérés\, à la fois.  \n  \nInfos et inscriptions : evs@mjcteyran.com  \n04 67 70 70 80
URL:https://mjcteyran.com/evenement/conference-ikigai-mardi-20-mai-2025-19h30-salle-de-la-bergerie/
ATTACH;FMTTYPE=image/png:https://mjcteyran.com/wp-content/uploads/2025/04/conf-touret-1.png
END:VEVENT
BEGIN:VEVENT
DTSTART;TZID=Europe/Paris:20250523T183000
DTEND;TZID=Europe/Paris:20250523T193000
DTSTAMP:20260420T130621
CREATED:20250505T142307Z
LAST-MODIFIED:20250505T142307Z
UID:10458-1748025000-1748028600@mjcteyran.com
SUMMARY:Yoga du rire
DESCRIPTION:
URL:https://mjcteyran.com/evenement/yoga-du-rire/
ATTACH;FMTTYPE=image/jpeg:https://mjcteyran.com/wp-content/uploads/2025/05/unnamed-1.jpg
END:VEVENT
BEGIN:VEVENT
DTSTART;TZID=Europe/Paris:20250524T103000
DTEND;TZID=Europe/Paris:20250524T113000
DTSTAMP:20260420T130621
CREATED:20250422T091742Z
LAST-MODIFIED:20250422T091742Z
UID:10437-1748082600-1748086200@mjcteyran.com
SUMMARY:Yoga Ashtanga Vinyasa
DESCRIPTION:
URL:https://mjcteyran.com/evenement/yoga-ashtanga-vinyasa/
ATTACH;FMTTYPE=image/png:https://mjcteyran.com/wp-content/uploads/2025/04/Yoga-Ashtanga-Vinyasa-5.png
END:VEVENT
END:VCALENDAR