BEGIN:VCALENDAR
VERSION:2.0
PRODID:-//MJC Teyran - ECPv6.15.20//NONSGML v1.0//EN
CALSCALE:GREGORIAN
METHOD:PUBLISH
X-WR-CALNAME:MJC Teyran
X-ORIGINAL-URL:https://mjcteyran.com
X-WR-CALDESC:Évènements pour MJC Teyran
REFRESH-INTERVAL;VALUE=DURATION:PT1H
X-Robots-Tag:noindex
X-PUBLISHED-TTL:PT1H
BEGIN:VTIMEZONE
TZID:Europe/Paris
BEGIN:DAYLIGHT
TZOFFSETFROM:+0100
TZOFFSETTO:+0200
TZNAME:CEST
DTSTART:20240331T010000
END:DAYLIGHT
BEGIN:STANDARD
TZOFFSETFROM:+0200
TZOFFSETTO:+0100
TZNAME:CET
DTSTART:20241027T010000
END:STANDARD
BEGIN:DAYLIGHT
TZOFFSETFROM:+0100
TZOFFSETTO:+0200
TZNAME:CEST
DTSTART:20250330T010000
END:DAYLIGHT
BEGIN:STANDARD
TZOFFSETFROM:+0200
TZOFFSETTO:+0100
TZNAME:CET
DTSTART:20251026T010000
END:STANDARD
BEGIN:DAYLIGHT
TZOFFSETFROM:+0100
TZOFFSETTO:+0200
TZNAME:CEST
DTSTART:20260329T010000
END:DAYLIGHT
BEGIN:STANDARD
TZOFFSETFROM:+0200
TZOFFSETTO:+0100
TZNAME:CET
DTSTART:20261025T010000
END:STANDARD
END:VTIMEZONE
BEGIN:VEVENT
DTSTART;TZID=Europe/Paris:20250403T180000
DTEND;TZID=Europe/Paris:20250403T200000
DTSTAMP:20260420T143014
CREATED:20250312T160329Z
LAST-MODIFIED:20250312T160329Z
UID:10386-1743703200-1743710400@mjcteyran.com
SUMMARY:Y’A POT : jeudi 03 avril à partir de 18H à la MJC
DESCRIPTION:Chers Teyrannais\, chers Teyrannaises\, \nC’est avec le cœur plein d’émotions que je vous annonce mon départ de la MJC de Teyran\, de nouvelles aventures professionnelles m’attendent ! \nJe tiens à toutes et tous vous remercier  : ces trois années ont été riches de constructions\, de projets\, d’expérimentations et de transversalité – la MJC est ce que nous en faisons et nous en faisons un lieu pour toutes et tous. \nRdv à la MJC le 03 avril à partir de 18H pour festoyer ensemble et accueillir Clémentine qui rejoint l’équipe !  \nSi vous voulez vous hydrater : apportez à boire !  \nSi vous souhaitez grignoter : apportez à manger (j’aime le salé et le chocolat) ! \nEt s’il y avait plus de monde qu’au Carnaval ? Challenge accepté ! \nEnvoyez-nous un mail si vous comptez venir : accueil@mjcteyran.com
URL:https://mjcteyran.com/evenement/ya-pot-jeudi-03-avril-a-partir-de-18h-a-la-mjc/
END:VEVENT
BEGIN:VEVENT
DTSTART;VALUE=DATE:20250405
DTEND;VALUE=DATE:20250406
DTSTAMP:20260420T143014
CREATED:20250312T144145Z
LAST-MODIFIED:20250312T144145Z
UID:10371-1743811200-1743897599@mjcteyran.com
SUMMARY:MJ’sCènes : 5 avril - Domaine de Bayssan
DESCRIPTION:Le Conseil d’Administration de la MJC de Teyran vous convient à l’événement — rencontre des MJC de l’Hérault : \nMJ’sCènes \nImpulsion des talents ! \nLe samedi 5 avril 2025 \nA la Scène de Bayssan\, à Béziers \nDe 10h30 à 12h30 10 ateliers artistiques et culturels seront proposés aux jeunes des MJC et Espaces Jeunes leur permettant de découvrir de nouvelles pratiques artistiques :  Théâtre / Peinture Fluide / Sculpture sur argile / Danse Hip-Hop / Danses du Monde / découverte du métier insolite tatoueur / découverte des métiers de la scène. \nA partir de 14h\, les jeunes des MJC de l’Hérault monteront sur la scène de Bayssan pour présenter leur spectacle préparé dans l’année.  \nLa MJC de Teyran sera fortement représentée: \n\n14h : Espace Jeunes\, Court métrage “ The ghost of seven crosses” (15 min)\n14h30 : Théâtre :  “ça ira”\, 1ere partie\, de Joël Pommerat (15 min)\n15h30 : Danse adaptée\, création chorégraphique “Roméo et Juliette”\, chorégraphié par Lorenzo Dalaï (15 min)\n17h30: Groupe de Rock : The melodies dealers (30 min)\n\nCourt métrage “ The ghost of seven crosses” (15 min) \nLes jeunes de l’Espace Jeunes de Teyran ont consacré l’année 2024 à la réalisation d’un court métrage. Ils ont choisi de créer une œuvre captivante et frissonnante\, mettant en valeur le patrimoine de Teyran. \nSynopsis du court métrage : Un groupe de jeunes s’unit pour affronter l’esprit des Sept Croix\, une entité maléfique qui hante le village de Teyran tous les cent ans. Parviendront-ils à survivre ? Découvrez leur périlleuse aventure dans ce court métrage d’horreur captivant. \nExtrait d’une pièce de théâtre :  “ça ira”\, 1ere partie\, de Joël Pommerat (15 min) \nFiction politique contemporaine inspirée de la Révolution française. \nLes élèves des ateliers théâtre de la MJC donneront vie et corps aux idées\, aux utopies\, aux élans et affrontements qui débouchèrent sur la création de l’Assemblée nationale. \nDanse adaptée\, création chorégraphique “Roméo et Juliette”\, chorégraphié par Lorenzo Dalaï (15 min) \nPour cet événement MJ’sCènes\, le groupe de Danse Adaptée de Teyran présentera une création chorégraphique élaborée avec un artiste chorégraphe de l’Hérault\, Lorenzo Dalaï\, qui est sensibilisé au public en situation de handicap. Il a choisi le thème de Roméo et Juliette – l’amour impossible face aux obstacles extérieurs – qui se prête parfaitement à une réinterprétation contemporaine où le handicap et la différence ne sont pas des freins mais des richesses qui nourrissent la narration. Cette création chorégraphique mettra l’accent sur l’émotion brute\, la force de la vulnérabilité et la beauté de la diversité. \nGroupe de Rock : The melodies dealers (30 min) \nEn septembre 2023\, un groupe de quatre jeunes de Teyran a formé un groupe de rock\, « The Melodies Dealers ». Accompagnés au chant par leur professeur Maxime Gaze\, ils revisitent des morceaux emblématiques de Linkin Park\, Metallica et d’autres groupes légendaires du rock.
URL:https://mjcteyran.com/evenement/mjscenes-5-avril-domaine-de-bayssan/
ATTACH;FMTTYPE=image/jpeg:https://mjcteyran.com/wp-content/uploads/2025/03/7.jpg
END:VEVENT
BEGIN:VEVENT
DTSTART;TZID=Europe/Paris:20250405T100000
DTEND;TZID=Europe/Paris:20250405T170000
DTSTAMP:20260420T143014
CREATED:20250312T143350Z
LAST-MODIFIED:20250312T143743Z
UID:10365-1743847200-1743872400@mjcteyran.com
SUMMARY:STAGE DE DESSIN : SAMEDI 5 AVRIL de 10h à 17h30
DESCRIPTION:Apprendre à dessiner autrement. \nAncienne élève des beaux arts Mimi vous aidera à comprendre et réaliser un portrait au crayon durant ce stage sur des bases simples (selon modèle défini). Ce stage s’adresse aussi aux personnes débutantes et aux enfants à partir de 12 ans. \nLaissez-vous tenter! \nPicasso disait: “J’ai mis toute ma vie à savoir dessiner comme un enfant »…… \nTARIF 30€/personne  \nInscription obligatoire : 04.67.70.70.80 – accueil@mjcteyran.com
URL:https://mjcteyran.com/evenement/stage-de-dessin-samedi-5-avril-de-10h-a-17h30/
ATTACH;FMTTYPE=image/jpeg:https://mjcteyran.com/wp-content/uploads/2025/03/affiche-stage-5-AVRIL-2025.jpg
END:VEVENT
BEGIN:VEVENT
DTSTART;TZID=Europe/Paris:20250406T170000
DTEND;TZID=Europe/Paris:20250406T200000
DTSTAMP:20260420T143014
CREATED:20250312T144311Z
LAST-MODIFIED:20250312T144311Z
UID:10374-1743958800-1743969600@mjcteyran.com
SUMMARY:CHORALE : Concert du 6 avril 2025 à 17h\, Foyer . H   Paulet . À Castries\, avec LA CLEF DES CHANTS de Teyran et La Chorale JA COOL CHOEUR de Jacou
DESCRIPTION:Un moment musical et de détente vous attend\, avec des choristes de Teyran et de Jacou qui sauront vous faire vibrer au rythme des plus belles mélodies. Venez vivre une après-midi musicale conviviale où classique\, pop\, musique du monde et variété musique et bien plus encore se rencontrent pour enchanter vos oreilles ! \nParticipation libre \nRenseignements : 04.67.70.70.80
URL:https://mjcteyran.com/evenement/chorale-concert-du-6-avril-2025-a-17h-foyer-h-paulet-a-castries-avec-la-clef-des-chants-de-teyran-et-la-chorale-ja-cool-choeur-de-jacou/
ATTACH;FMTTYPE=image/png:https://mjcteyran.com/wp-content/uploads/2025/03/La-chorale-LA-CLEF-DES-CHANTS1.png
END:VEVENT
BEGIN:VEVENT
DTSTART;TZID=Europe/Paris:20250407T080000
DTEND;TZID=Europe/Paris:20250519T170000
DTSTAMP:20260420T143014
CREATED:20250312T143634Z
LAST-MODIFIED:20250312T143634Z
UID:10368-1744012800-1747674000@mjcteyran.com
SUMMARY:ATELIER détente et mobilité corporelle : Du lundi 7 avril au 19 mai 2025
DESCRIPTION:L’Atelier se compose de 6 séances de 2 heures\, avec une pause de 5-10 minutes à l’issue de la première heure. Il se structure autour de séries de jeux\, d’exercices et de techniques corporels.   \nNous alternons les phases calmes et les phases plus toniques\, les temps individuels et les temps d’échanges en groupe. A chaque séance\, l’intervenant aborde les thèmes suivants :  \n\nJeux de cohésion de groupe \nExercices de mobilisation corporelle \nJeux d’expression corporelle \nTechniques de relaxation \n\nLe déroulement des séances  \n1er temps : mise en relation – se rencontrer  \n2ème temps : respiration et mobilisation corporelle  \n3ème temps : interactivité et expression corporelle  \n4ème temps : détente et lâcher-prise 
URL:https://mjcteyran.com/evenement/atelier-detente-et-mobilite-corporelle-du-lundi-7-avril-au-19-mai-2025/
ATTACH;FMTTYPE=image/png:https://mjcteyran.com/wp-content/uploads/2025/03/Affiche-Brain-Up-Detente-et-mobilite-Teyran-1.png
END:VEVENT
BEGIN:VEVENT
DTSTART;TZID=Europe/Paris:20250422T080000
DTEND;TZID=Europe/Paris:20250422T170000
DTSTAMP:20260420T143014
CREATED:20250422T092851Z
LAST-MODIFIED:20250422T092851Z
UID:10440-1745308800-1745341200@mjcteyran.com
SUMMARY:Samedi 17 mai 14h-16h à l’école de cirque Zepetra : Pot des potes
DESCRIPTION:Le pot des potes c’est un temps convivial\, de rencontre\, de jeux avec des parents\, des enfants\, des potes\, en situation de handicap ou non\, et surtout des échanges. Cette fois\, nous nous retrouvons à l’école de cirque Zepetra pour un atelier découverte des arts du cirque. C’est un temps gratuit et le nombre de places est limité à 6 jeunes.  \nRendez-vous le 17 mai de 14h à 16h à l’école de cirque Zepetra au 153 rue Alphonse Beau de Rochas 34 170 Castelnau le lez avec E.R.A.M.I.S\, l’EVS et l’Espace Jeunes pour des activités en famille. \nInfos et inscriptions : evs@mjcteyran.com 04 67 70 70 80
URL:https://mjcteyran.com/evenement/samedi-17-mai-14h-16h-a-lecole-de-cirque-zepetra-pot-des-potes/
ATTACH;FMTTYPE=application/pdf:https://mjcteyran.com/wp-content/uploads/2025/04/pot-des-potes-zepetra-maj-1.pdf
END:VEVENT
BEGIN:VEVENT
DTSTART;TZID=Europe/Paris:20250424T183000
DTEND;TZID=Europe/Paris:20250424T200000
DTSTAMP:20260420T143014
CREATED:20250407T155551Z
LAST-MODIFIED:20250407T155551Z
UID:10418-1745519400-1745524800@mjcteyran.com
SUMMARY:STAGE DE FITNESS
DESCRIPTION:
URL:https://mjcteyran.com/evenement/stage-de-fitness/
ATTACH;FMTTYPE=image/png:https://mjcteyran.com/wp-content/uploads/2025/04/stage-fitness-2.png
END:VEVENT
BEGIN:VEVENT
DTSTART;TZID=Europe/Paris:20250425T180000
DTEND;TZID=Europe/Paris:20250425T200000
DTSTAMP:20260420T143014
CREATED:20250312T144750Z
LAST-MODIFIED:20250312T144750Z
UID:10380-1745604000-1745611200@mjcteyran.com
SUMMARY:CINÉ KIDS : 25 AVRIL à 18h
DESCRIPTION:Une séance de cinéma pour les enfants et les parents où on regarde des courts-métrages ensemble et puis après par le jeu\, par les mots ou par le corps on en discute. Au ciné kids on parle d’amour\, de famille\, de différences\, de citoyenneté ! \n  \nInfos et inscriptions : evs@mjcteyran.com 04 67 70 70 80
URL:https://mjcteyran.com/evenement/cine-kids-25-avril-a-18h/
ATTACH;FMTTYPE=image/png:https://mjcteyran.com/wp-content/uploads/2025/03/cines-kids-2024.png
END:VEVENT
BEGIN:VEVENT
DTSTART;TZID=Europe/Paris:20250426T100000
DTEND;TZID=Europe/Paris:20250426T173000
DTSTAMP:20260420T143014
CREATED:20250326T135137Z
LAST-MODIFIED:20250326T135137Z
UID:10413-1745661600-1745688600@mjcteyran.com
SUMMARY:STAGE AQUARELLE
DESCRIPTION:
URL:https://mjcteyran.com/evenement/stage-aquarelle/
ATTACH;FMTTYPE=image/png:https://mjcteyran.com/wp-content/uploads/2025/03/affiche-26-4-24-e.png
END:VEVENT
BEGIN:VEVENT
DTSTART;TZID=Europe/Paris:20250429T193000
DTEND;TZID=Europe/Paris:20250429T213000
DTSTAMP:20260420T143014
CREATED:20250312T155634Z
LAST-MODIFIED:20250312T155634Z
UID:10383-1745955000-1745962200@mjcteyran.com
SUMMARY:CONFÉRENCE : « les bienfaits de l’art sur la santé »\, Mardi 29 AVRIL à 19h30 salle de La Bergerie
DESCRIPTION:Les progrès de la science nous permettent aujourd’hui d’observer par imagerie cérébrale ce que provoque une pratique artistique sur le cerveau. De nombreuses recherches nous montrent en quoi l’art est loin d’être une matière superflue et combien il peut contribuer à une meilleure santé physique et psychique. C’est-ce que nous pourrons découvrir lors de cette conférence accompagnée de petits exercices de théâtre ludiques. \nInfos et inscriptions : evs@mjcteyran.com 04 67 70 70 80
URL:https://mjcteyran.com/evenement/conference-les-bienfaits-de-lart-sur-la-sante-mardi-29-avril-a-19h30-salle-de-la-bergerie/
ATTACH;FMTTYPE=image/png:https://mjcteyran.com/wp-content/uploads/2025/03/conf-touret4.png
END:VEVENT
END:VCALENDAR