BEGIN:VCALENDAR
VERSION:2.0
PRODID:-//MJC Teyran - ECPv6.15.20//NONSGML v1.0//EN
CALSCALE:GREGORIAN
METHOD:PUBLISH
X-ORIGINAL-URL:https://mjcteyran.com
X-WR-CALDESC:Évènements pour MJC Teyran
REFRESH-INTERVAL;VALUE=DURATION:PT1H
X-Robots-Tag:noindex
X-PUBLISHED-TTL:PT1H
BEGIN:VTIMEZONE
TZID:Europe/Paris
BEGIN:DAYLIGHT
TZOFFSETFROM:+0100
TZOFFSETTO:+0200
TZNAME:CEST
DTSTART:20240331T010000
END:DAYLIGHT
BEGIN:STANDARD
TZOFFSETFROM:+0200
TZOFFSETTO:+0100
TZNAME:CET
DTSTART:20241027T010000
END:STANDARD
BEGIN:DAYLIGHT
TZOFFSETFROM:+0100
TZOFFSETTO:+0200
TZNAME:CEST
DTSTART:20250330T010000
END:DAYLIGHT
BEGIN:STANDARD
TZOFFSETFROM:+0200
TZOFFSETTO:+0100
TZNAME:CET
DTSTART:20251026T010000
END:STANDARD
BEGIN:DAYLIGHT
TZOFFSETFROM:+0100
TZOFFSETTO:+0200
TZNAME:CEST
DTSTART:20260329T010000
END:DAYLIGHT
BEGIN:STANDARD
TZOFFSETFROM:+0200
TZOFFSETTO:+0100
TZNAME:CET
DTSTART:20261025T010000
END:STANDARD
END:VTIMEZONE
BEGIN:VEVENT
DTSTART;VALUE=DATE:20250301
DTEND;VALUE=DATE:20250302
DTSTAMP:20260420T154421
CREATED:20250129T135921Z
LAST-MODIFIED:20250227T134657Z
UID:10216-1740787200-1740873599@mjcteyran.com
SUMMARY:Tournoi de basket 3x3 - Annulé faute de participant
DESCRIPTION:
URL:https://mjcteyran.com/evenement/tournoi-de-basket-3x3/
ATTACH;FMTTYPE=image/png:https://mjcteyran.com/wp-content/uploads/2025/01/Planning-Chu.png
END:VEVENT
BEGIN:VEVENT
DTSTART;TZID=Europe/Paris:20250304T193000
DTEND;TZID=Europe/Paris:20250304T213000
DTSTAMP:20260420T154421
CREATED:20250226T123616Z
LAST-MODIFIED:20250226T123616Z
UID:10311-1741116600-1741123800@mjcteyran.com
SUMMARY:Conférence IKIGAÏ
DESCRIPTION:Mardi 04 mars 19H30 : Conférence IKIGAÏ \nIKIGAÏ ou « qui vaut la peine de vivre » \nAu Japon\, on dit d’une personne qui a beaucoup d’Ikigaï\, qu’elle mène une vie satisfaisante et épanouissante\, qu’elle sait ce pour quoi elle se lève chaque matin. Cette personne\, comme les centenaires de l’île d’Okinawa\, a une espérance de vie plus longue que la normale. Qu’est-ce qu’au juste l’ikigaï ? Et comment le découvrir ? C’est ce que nous verrons lors de cette conférence accompagnée d’exercices pratiques. \nOù : Salle de la bergerie\, Place du Charron\, 34 820 Teyran \n  \nAteliers « découvrir son Ikigaï » :  exercices pratiques nous aidant à prendre conscience de ce que nous aimons faire\, que nous savons faire\, qui est utile pour les autres et  pour lequel nous sommes rémunérés\, à la fois. \nLes Mardis de 18h à 19h30 à l’Espace Jeunes : 11 mars -18 mars – 25 mars – 1er avril – 8 avril \nTeyran : 99 € pour les 5 séances \nHors Teyran : 108 € pour les 5 séances \n  \nInfos et inscriptions : evs@mjcteyran.com \n04 67 70 70 80
URL:https://mjcteyran.com/evenement/conference-ikigai/
LOCATION:Salle de la Bergerie
ATTACH;FMTTYPE=image/png:https://mjcteyran.com/wp-content/uploads/2025/02/conf-touret2.png
END:VEVENT
BEGIN:VEVENT
DTSTART;TZID=Europe/Paris:20250306T080000
DTEND;TZID=Europe/Paris:20250316T170000
DTSTAMP:20260420T154421
CREATED:20250226T123745Z
LAST-MODIFIED:20250226T123745Z
UID:10316-1741248000-1742144400@mjcteyran.com
SUMMARY:Le Népal au Féminin : forces silencieuses & bâtisseuses d’avenir
DESCRIPTION:Exposition solidaire à la MJC du 6 au 15 mars 2025 \nLe Népal au Féminin : forces silencieuses & bâtisseuses d’avenir \nÀ l’occasion de la journée internationale des droits des femmes\, venez découvrir une exposition émouvante et inspirante qui célèbre les femmes et les filles du Népal. Véritables piliers de leur communauté\, elles jouent un rôle essentiel dans la construction d’un avenir meilleur. \nÀ travers des photographies puissantes et authentiques\, prises lors d’un voyage solidaire en novembre 2024 avec l’association Ailleurs Solidaires\, plongez dans leur quotidien\, marqué par le courage\, la résilience et l’espoir. Chaque image raconte une histoire\, celle de ces héroïnes discrètes qui transforment leur société. \nRejoignez-nous pour célébrer leur force et leur détermination. \nInauguration officielle :\nRendez-vous le jeudi 6 mars à 18h autour d’un apéritif convivial. La photographe Cécile Garou partagera les coulisses de son projet et son engagement aux côtés d’Ailleurs Solidaires. \nInfos & inscriptions (pour l’inauguration) : evs@mjcteyran.com | 04 67 70 70 80 \nNe manquez pas cette occasion unique de découvrir un Népal méconnu\, à travers le regard engagé d’une photographe passionnée et solidaire.
URL:https://mjcteyran.com/evenement/le-nepal-au-feminin-forces-silencieuses-batisseuses-davenir/
LOCATION:MJC TEYRAN\, rue des sports\, teyran\, 34820
ATTACH;FMTTYPE=image/png:https://mjcteyran.com/wp-content/uploads/2025/02/EXPO_AFFICHE_A4_HD-1-1-1.png
END:VEVENT
BEGIN:VEVENT
DTSTART;TZID=Europe/Paris:20250308T103000
DTEND;TZID=Europe/Paris:20250308T113000
DTSTAMP:20260420T154421
CREATED:20250226T125016Z
LAST-MODIFIED:20250227T130130Z
UID:10338-1741429800-1741433400@mjcteyran.com
SUMMARY:Yoga Ashtanga Vinyasa : Samedi 8 mars
DESCRIPTION:
URL:https://mjcteyran.com/evenement/stages-adultes-mars/
LOCATION:MJC TEYRAN\, rue des sports\, teyran\, 34820
ATTACH;FMTTYPE=image/png:https://mjcteyran.com/wp-content/uploads/2025/02/Yoga-Ashtanga-Vinyasa-2.png
END:VEVENT
BEGIN:VEVENT
DTSTART;TZID=Europe/Paris:20250311T143000
DTEND;TZID=Europe/Paris:20250311T160000
DTSTAMP:20260420T154421
CREATED:20250220T163255Z
LAST-MODIFIED:20250220T163255Z
UID:10279-1741703400-1741708800@mjcteyran.com
SUMMARY:Mardi 11 mars : Peinture fluide
DESCRIPTION:
URL:https://mjcteyran.com/evenement/mardi-11-mars-peinture-fluide/
ATTACH;FMTTYPE=image/png:https://mjcteyran.com/wp-content/uploads/2025/02/MJC-activites-mensuelles-1.png
END:VEVENT
BEGIN:VEVENT
DTSTART;VALUE=DATE:20250315
DTEND;VALUE=DATE:20250316
DTSTAMP:20260420T154421
CREATED:20250128T155840Z
LAST-MODIFIED:20250128T155840Z
UID:10198-1741996800-1742083199@mjcteyran.com
SUMMARY:Stage Dessin 15 mars 2025
DESCRIPTION:
URL:https://mjcteyran.com/evenement/stage-dessin-15-mars-2025/
ATTACH;FMTTYPE=image/png:https://mjcteyran.com/wp-content/uploads/2025/01/affiche-stage-dessin-15-mARS.png
END:VEVENT
BEGIN:VEVENT
DTSTART;TZID=Europe/Paris:20250316T150000
DTEND;TZID=Europe/Paris:20250316T180000
DTSTAMP:20260420T154421
CREATED:20250212T094325Z
LAST-MODIFIED:20250306T120516Z
UID:10228-1742137200-1742148000@mjcteyran.com
SUMMARY:Dimanche 16 mars : Carnaval
DESCRIPTION:Cette année\, le carnaval de Teyran sera celui des MILLE COULEURS !  \nVous aurez l’occasion de profiter de nombreuses animations proposées par nos partenaires et nos bénévoles\, de la musique\, des initiations\, des jeux\, une buvette… de quoi s’amuser tous ensemble. \n15h – RDV à la Résidence Aubeterre – EHPAD de Teyran  \nDéfilé devant les résidents  \nAnimation musicale assurée par la Batucada BATUCAPIC de PRADES.  \nSurprise circassienne de la Compagnie BULL EN FUN  \n15h30 – DÉAMBULATION vers la MJC avec la BATUCAPIC\, les circassiens de BULL EN FUN\, et les chevaux et cavaliers du poney club LES GALOPINS. \n16h–18h Ouverture des ANIMATIONS / JEUX sur le Terrain de Tambourin  \n\nJeux en bois de la MJC \nJeux autour du tennis avec le CLUB de TENNIS de TEYRAN\nJeux sportifs avec TEYRAN SAVATE POING 34\nActivité artistique avec MIMI\nActivités ludiques avec Thomas ROCHETTE \nStand maquillage\nPetits jeux avec l’ESPACE JEUNES\n\n16h10 – SPECTACLE DE CIRQUE (25 min) \nANIMATION MUSICALE  durant l’après-midi avec la BATUCAPIC et le DJ Hugo CORBEAU – Démonstration de danse de la Country\n \nBUVETTE avec crêpes\, gâteaux\, bonbons\, barbes à papa et boissons à vendre (pensez à prendre de la monnaie) \nOn vous y attend colorés\, prêts à partager un moment convivial\, festif et haut en couleur !   \n  \nN’hésitez pas à nous faire don de gâteaux pour alimenter la buvette\, les bénéfices seront reversés à l’Espace Jeunes pour financer leurs projets.  \n  \nInfos : evs@mjcteyran.com 04 67 70 70 80
URL:https://mjcteyran.com/evenement/dimanche-16-mars-carnaval/
ATTACH;FMTTYPE=image/png:https://mjcteyran.com/wp-content/uploads/2025/02/carnaval-2025.png
END:VEVENT
BEGIN:VEVENT
DTSTART;TZID=Europe/Paris:20250321T183000
DTEND;TZID=Europe/Paris:20250321T193000
DTSTAMP:20260420T154421
CREATED:20250227T100011Z
LAST-MODIFIED:20250227T100011Z
UID:10341-1742581800-1742585400@mjcteyran.com
SUMMARY:Vendredi 21 mars : Yoga du rire adultes
DESCRIPTION:
URL:https://mjcteyran.com/evenement/vendredi-21-mars-yoga-du-rire-adultes/
ATTACH;FMTTYPE=image/jpeg:https://mjcteyran.com/wp-content/uploads/2025/02/unnamed.jpg
END:VEVENT
BEGIN:VEVENT
DTSTART;TZID=Europe/Paris:20250322T093000
DTEND;TZID=Europe/Paris:20250322T120000
DTSTAMP:20260420T154421
CREATED:20250212T094624Z
LAST-MODIFIED:20250212T094624Z
UID:10231-1742635800-1742644800@mjcteyran.com
SUMMARY:Samedi 22 mars : matinée jeux
DESCRIPTION:Rendez-vous le samedi 22 mars à 9H30 à la médiathèque pour vous régaler en famille ou entre amis autour de jeux de société. Venez vous défier\, collaborer\, tester\, rire\, découvrir\, autour de nombreux jeux originaux !  \nInfos et inscriptions : evs@mjcteyran.com 04 67 70 70 80
URL:https://mjcteyran.com/evenement/samedi-22-mars-matinee-jeux/
ATTACH;FMTTYPE=image/png:https://mjcteyran.com/wp-content/uploads/2025/02/soirees-matinees-jeux-2024-25.png
END:VEVENT
BEGIN:VEVENT
DTSTART;TZID=Europe/Paris:20250323T090000
DTEND;TZID=Europe/Paris:20250323T130000
DTSTAMP:20260420T154421
CREATED:20250226T124444Z
LAST-MODIFIED:20250226T124444Z
UID:10324-1742720400-1742734800@mjcteyran.com
SUMMARY:Atelier de Constellation Familiale
DESCRIPTION:Atelier de Constellation Familiale : 23 Mars de 9h à 13h  \nExpérience forte à vivre au moyen de son corps et de ses émotions pour aller vers plus d’équilibre et de mieux-être. \nLe but des constellations est de rétablir l’ordre dans le système familial et de permettre à chaque membre d’avoir sa juste place et d’assumer ses responsabilités. Il devient alors plus simple de se libérer de ce que l’on a pris sur nous par loyauté et qui ne nous appartient pas. \nDeux possibilités : \n– Être constellé(e) : Je travaille sur quelque chose qui me pose un problème aujourd’hui dans ma vie avec le groupe (entretien préalable en individuel\, seul l’objectif est dévoilé au groupe\, le reste de l’histoire personnelle reste confidentiel). \n– Etre représentant(e) : Je me mets au service du constellé(e) et représente un membre ou un concept de son histoire. \nTarifs MJC: 20 € / représentant et 70 € / constellé(e) \n10 participants maximum \nSalle de danse – MJC
URL:https://mjcteyran.com/evenement/atelier-de-constellation-familiale/
LOCATION:MJC TEYRAN\, rue des sports\, teyran\, 34820
ATTACH;FMTTYPE=image/png:https://mjcteyran.com/wp-content/uploads/2025/02/Ajouter-un-titre.png
END:VEVENT
BEGIN:VEVENT
DTSTART;TZID=Europe/Paris:20250325T143000
DTEND;TZID=Europe/Paris:20250325T160000
DTSTAMP:20260420T154421
CREATED:20250220T163805Z
LAST-MODIFIED:20250220T163805Z
UID:10284-1742913000-1742918400@mjcteyran.com
SUMMARY:Mardi 25 mars : Peinture fluide
DESCRIPTION:
URL:https://mjcteyran.com/evenement/mardi-25-mars-peinture-fluide-2/
ATTACH;FMTTYPE=image/png:https://mjcteyran.com/wp-content/uploads/2025/02/MJC-activites-mensuelles-1.png
END:VEVENT
BEGIN:VEVENT
DTSTART;TZID=Europe/Paris:20250327T190000
DTEND;TZID=Europe/Paris:20250327T203000
DTSTAMP:20260420T154421
CREATED:20250226T124541Z
LAST-MODIFIED:20250226T124541Z
UID:10331-1743102000-1743107400@mjcteyran.com
SUMMARY:Printemps des comédiens
DESCRIPTION:Printemps des comédiens : Jeudi 27 mars à 19h00 \nRendez-vous pour la 39ème édition du Printemps des Comédiens du 29 mai au 21 juin 2025 ! \nNous avons le plaisir de vous annoncer la venue de Jean Varela\, Directeur du Printemps des Comédiens\, le jeudi 27 mars 2025 à 19 h 00 à la MJC. \nComme à son habitude\, Jean nous fera rêver sur les spectacles au programme de cette année. \nNous serons là\, Isabelle Dorfanis et Chantal Petit\, pour prendre en charge vos réservations. \nMerci de venir nombreux.
URL:https://mjcteyran.com/evenement/printemps-des-comediens/
LOCATION:MJC TEYRAN\, rue des sports\, teyran\, 34820
ATTACH;FMTTYPE=image/png:https://mjcteyran.com/wp-content/uploads/2025/02/jean-varela.png
END:VEVENT
BEGIN:VEVENT
DTSTART;TZID=Europe/Paris:20250329T164500
DTEND;TZID=Europe/Paris:20250329T194500
DTSTAMP:20260420T154421
CREATED:20250226T124733Z
LAST-MODIFIED:20250226T124733Z
UID:10333-1743266700-1743277500@mjcteyran.com
SUMMARY:Formation d’adultes au yoga pour enfants
DESCRIPTION:Samedi 29 Mars : Formation d’adultes au yoga pour enfants.  \nHoraires : 16h45 -19h45 \nPrix : 40 € la séance  \nAdhésion : 10 € d’adhésion à l’association EVEIL  \nL’association Eveil propose\, à la MJC de Teyran\, une formation au yoga pour enfants de 3 à 18 ans. \nCette formation s’adresse à toute personne désireuse de proposer des moments de yoga ou créativité aux enfants ou ados\, dans quelque cadre que ce soit (cours de yoga\, école\, famille). \nUne mise en application sera possible pour les personnes qui le souhaitent le lendemain (30 mars). \nIntervenante : Yannick Quenet\, professeure de Yoga\, diplômée de la FNEY\, spécialisée Yoga pour enfants. Psychothérapeute et psychopraticienne. \nSur inscription : Téléphone : 04.67.52.83.13 / 06.67.89.57.39 / \nOu à la MJC : 04.67.70.70.80
URL:https://mjcteyran.com/evenement/formation-dadultes-au-yoga-pour-enfants/
LOCATION:MJC TEYRAN\, rue des sports\, teyran\, 34820
ATTACH;FMTTYPE=image/png:https://mjcteyran.com/wp-content/uploads/2025/02/yoga-adulte-e1740574030847.png
END:VEVENT
BEGIN:VEVENT
DTSTART;TZID=Europe/Paris:20250330T093000
DTEND;TZID=Europe/Paris:20250330T173000
DTSTAMP:20260420T154421
CREATED:20250226T124843Z
LAST-MODIFIED:20250226T124843Z
UID:10336-1743327000-1743355800@mjcteyran.com
SUMMARY:Yoga Créativité Jonglage
DESCRIPTION:Dimanche 30 mars : Yoga Créativité Jonglage \n  \nPour les enfants de 6-12 ans  \nHoraires : 9h30 -17h30 \nPrix : 45€ / jour / enfant ou 35€ à partir du 2ème enfant de la même famille. \nAdhésion : 10 € d’adhésion à l’association EVEIL  \nL’association Eveil propose\, à la MJC de Teyran\, une journée pour enfants de 6 à 12 ans. \nPar le Yoga sous forme ludique\, le massage\, le jonglage\, le jeu et différentes formes de créativité\, permettre l’éveil et le développement physique et mental de l’enfant. \nIntervenantes : Yannick Quenet et M. Dieter KNOLL. Yannick est professeure de Yoga\, diplômée de la FNEY\, spécialisée Yoga pour enfants\, animatrice BAFA. Psychothérapeute et psychopraticienne. Dieter est animateur BAFA et spécialisé en jonglage. \nSur inscription : \nTéléphone : 04.67.52.83.13 / 06.67.89.57.39 / \nOù : à la MJC : 04.67.70.70.80
URL:https://mjcteyran.com/evenement/yoga-creativite-jonglage/
LOCATION:MJC TEYRAN\, rue des sports\, teyran\, 34820
ATTACH;FMTTYPE=image/png:https://mjcteyran.com/wp-content/uploads/2025/02/yoga-enfant.png
END:VEVENT
END:VCALENDAR