BEGIN:VCALENDAR
VERSION:2.0
PRODID:-//MJC Teyran - ECPv6.15.20//NONSGML v1.0//EN
CALSCALE:GREGORIAN
METHOD:PUBLISH
X-ORIGINAL-URL:https://mjcteyran.com
X-WR-CALDESC:Évènements pour MJC Teyran
REFRESH-INTERVAL;VALUE=DURATION:PT1H
X-Robots-Tag:noindex
X-PUBLISHED-TTL:PT1H
BEGIN:VTIMEZONE
TZID:Europe/Paris
BEGIN:DAYLIGHT
TZOFFSETFROM:+0100
TZOFFSETTO:+0200
TZNAME:CEST
DTSTART:20230326T010000
END:DAYLIGHT
BEGIN:STANDARD
TZOFFSETFROM:+0200
TZOFFSETTO:+0100
TZNAME:CET
DTSTART:20231029T010000
END:STANDARD
BEGIN:DAYLIGHT
TZOFFSETFROM:+0100
TZOFFSETTO:+0200
TZNAME:CEST
DTSTART:20240331T010000
END:DAYLIGHT
BEGIN:STANDARD
TZOFFSETFROM:+0200
TZOFFSETTO:+0100
TZNAME:CET
DTSTART:20241027T010000
END:STANDARD
BEGIN:DAYLIGHT
TZOFFSETFROM:+0100
TZOFFSETTO:+0200
TZNAME:CEST
DTSTART:20250330T010000
END:DAYLIGHT
BEGIN:STANDARD
TZOFFSETFROM:+0200
TZOFFSETTO:+0100
TZNAME:CET
DTSTART:20251026T010000
END:STANDARD
END:VTIMEZONE
BEGIN:VEVENT
DTSTART;TZID=Europe/Paris:20241001T193000
DTEND;TZID=Europe/Paris:20241001T210000
DTSTAMP:20260422T164533
CREATED:20240905T095046Z
LAST-MODIFIED:20240905T095046Z
UID:9725-1727811000-1727816400@mjcteyran.com
SUMMARY:Conférence : cohérence cardiaque
DESCRIPTION:Dans cette conférence\, nous verrons que la cohérence cardiaque est bien plus qu’une application de respiration téléchargée sur notre smartphone. Nous y découvrirons que notre coeur\, doté de 40 000 neurones\, communique avec notre cerveau et qu’il a une influence sur notre état émotionnel. « On ne voit bien qu’avec le coeur. L’essentiel est invisible pour les yeux » disait Antoine Saint Exupéry dans Le petit prince. \nInfos et inscriptions : evs@mjcteyran.com\n06 70 94 71 10
URL:https://mjcteyran.com/evenement/conference-coherence-cardiaque/
LOCATION:Salle de la Bergerie
ATTACH;FMTTYPE=image/png:https://mjcteyran.com/wp-content/uploads/2024/09/conf-coherence-cardiaque-semaine-bleue-21.png
END:VEVENT
BEGIN:VEVENT
DTSTART;TZID=Europe/Paris:20241005T100000
DTEND;TZID=Europe/Paris:20241005T120000
DTSTAMP:20260422T164533
CREATED:20240905T100608Z
LAST-MODIFIED:20240905T101617Z
UID:9729-1728122400-1728129600@mjcteyran.com
SUMMARY:Le Duo d'Aqui : Balade théâtralisée
DESCRIPTION:Une nouvelle façon de découvrir le village à Teyran.\n\n\nSamedi 5 octobre à 10h\, pendant la semaine bleue\, le Duo d’Aquí\, avec l’artiste occitan Joanda et la comédienne Valentine Dufloo\, mettra en lumière l’histoire et le patrimoine de Teyran. Un spectacle qui va guider les visiteurs dans les rues millénaires du cœur de village autour de tableaux inattendus.\n\n\nOn y découvrira l’incroyable philosophie des troubadours de la région\, les secrets des cathares occitans\, le faste du plus grand vignoble du monde\, les légendes des animaux totémiques héraultais\, la richesse du patrimoine bâti\, les marques de la langue occitane\, l’intimité des histoires locales…\n\n\nCe rendez-vous permettra de (re)découvrir le patrimoine du village lors de cette balade à thème\, entre chansons et saynètes. La balade se terminera par un apéritif convivial pour déguster quelques spécialités du pays.\n\n\nCette action\, en partenariat avec la mairie de Teyran et son espace de vie sociale\, est financée par la CFPPA du département de l’Hérault (Conférence des financeurs de la prévention de la perte autonomie)\, et le spectacle sera adapté aux séniors (pauses régulières).\n\n\nGratuit sur inscription au 06 70 94 71 10 ou par mail evs@mjcteyran.comDurée : 1h30 environ au départ de la mairie\nEn cas de mauvais temps\, le spectacle se fera en intérieur à la salle de la Bergerie.
URL:https://mjcteyran.com/evenement/le-duo-daqui-balade-theatralisee/
LOCATION:Mairie de Teyran
ATTACH;FMTTYPE=image/png:https://mjcteyran.com/wp-content/uploads/2024/09/affiche-duo-daqui1-1.png
END:VEVENT
BEGIN:VEVENT
DTSTART;TZID=Europe/Paris:20241020T093000
DTEND;TZID=Europe/Paris:20241020T140000
DTSTAMP:20260422T164533
CREATED:20241015T135138Z
LAST-MODIFIED:20241015T135138Z
UID:9930-1729416600-1729432800@mjcteyran.com
SUMMARY:Sortie famille : rando & pique-nique
DESCRIPTION:Venez participer à une randonnée en famille. Nous irons ensemble découvrir le site archéologique d’Ambrussum. Après une belle balade nous pique niquerons sur place\, pensez à apporter votre casse-croûte. \n  \nRendez-vous à 9h30  à la MJC (co-voiturage possible) ou bien directement sur place\, à 10H15 au parking proche du musée  (Chemin  d’Ambrussum\, 34400 Villetelle). \n  \nPour ceux et celles qui voudraient poursuivre l’aventure\, il sera possible l’après-midi de visiter le musée. \n  \nInfos &  inscription : evs@mjcteyran.com – 06 70 94 71 10
URL:https://mjcteyran.com/evenement/sortie-famille-rando-pique-nique/
ATTACH;FMTTYPE=image/png:https://mjcteyran.com/wp-content/uploads/2024/10/rando-famille-20-10-24.png
END:VEVENT
BEGIN:VEVENT
DTSTART;VALUE=DATE:20241021
DTEND;VALUE=DATE:20241026
DTSTAMP:20260422T164533
CREATED:20240910T140614Z
LAST-MODIFIED:20240910T140614Z
UID:9745-1729468800-1729900799@mjcteyran.com
SUMMARY:Stages d'automne
DESCRIPTION:STAGES – VACANCES d’AUTOMNE\n\nPour les prochaines vacances d’automne\, la MJC propose des stages artistiques et de bien-être conçus pour les enfants\, les adolescents et même les adultes. Que votre enfant ou vous\, ayez envie de découvrir différentes techniques d’expression artistique de dessin\, de peinture\, de sculpture ou de cirque\, ou découvrir le yoga du rire\, vous trouverez un atelier adapté à vos envies !\nOffrez à votre enfant des vacances créatives dans une ambiance conviviale et chaleureuse !\nLes places sont limitées\, alors ne tardez pas à vous inscrire.
URL:https://mjcteyran.com/evenement/stages-dautomne/
LOCATION:MJC TEYRAN\, rue des sports\, teyran\, 34820
ATTACH;FMTTYPE=image/png:https://mjcteyran.com/wp-content/uploads/2024/09/Stages-automne3.png
END:VEVENT
BEGIN:VEVENT
DTSTART;VALUE=DATE:20241028
DTEND;VALUE=DATE:20241101
DTSTAMP:20260422T164533
CREATED:20240910T140734Z
LAST-MODIFIED:20240910T140734Z
UID:9747-1730073600-1730419199@mjcteyran.com
SUMMARY:Stage d'automne
DESCRIPTION:STAGES – VACANCES d’AUTOMNE\n\nPour les prochaines vacances d’automne\, la MJC propose des stages artistiques et de bien-être conçus pour les enfants\, les adolescents et même les adultes. Que votre enfant ou vous\, ayez envie de découvrir différentes techniques d’expression artistique de dessin\, de peinture\, de sculpture ou de cirque\, ou découvrir le yoga du rire\, vous trouverez un atelier adapté à vos envies !\nOffrez à votre enfant des vacances créatives dans une ambiance conviviale et chaleureuse !\nLes places sont limitées\, alors ne tardez pas à vous inscrire.
URL:https://mjcteyran.com/evenement/stage-dautomne/
LOCATION:MJC TEYRAN\, rue des sports\, teyran\, 34820
ATTACH;FMTTYPE=image/png:https://mjcteyran.com/wp-content/uploads/2024/09/Stages-automne4.png
END:VEVENT
BEGIN:VEVENT
DTSTART;TZID=Europe/Paris:20241031T150000
DTEND;TZID=Europe/Paris:20241031T193000
DTSTAMP:20260422T164533
CREATED:20241015T135028Z
LAST-MODIFIED:20241015T135028Z
UID:9922-1730386800-1730403000@mjcteyran.com
SUMMARY:HALLOWEEN
DESCRIPTION:Venez célébrer le jeudi 31 octobre la fête d’Halloween avec nous ! Profitez de nombreuses activités effrayantes et amusantes pour toute la famille. Déguisements\, bonbons et frissons garantis ! Projet organisé avec la MJC\, l’Espace Jeunes\, la médiathèque\, des associations et artistes de Teyran. \n  \n15H : rdv Place de l’Europe – direction Aubeterre pour un temps de goûter\, de jeux et de convivialité \n16H30-17H : défilé déguisé de Aubeterre au camp de Liouse \n17H-18H30 : animations au camp de Liouse (lectures enfants\, ateliers artistiques\, jeux…) \n18H30-19H30 : chasse aux bonbons \n  \nPour rappel\, les enfants doivent être accompagnés d’un adulte\, n’hésitez pas à vous déguiser ! \nInfos : evs@mjcteyran.com
URL:https://mjcteyran.com/evenement/halloween-2/
ATTACH;FMTTYPE=image/png:https://mjcteyran.com/wp-content/uploads/2024/10/halloween-3110245.png
END:VEVENT
END:VCALENDAR