BEGIN:VCALENDAR
VERSION:2.0
PRODID:-//MJC Teyran - ECPv6.15.20//NONSGML v1.0//EN
CALSCALE:GREGORIAN
METHOD:PUBLISH
X-ORIGINAL-URL:https://mjcteyran.com
X-WR-CALDESC:Évènements pour MJC Teyran
REFRESH-INTERVAL;VALUE=DURATION:PT1H
X-Robots-Tag:noindex
X-PUBLISHED-TTL:PT1H
BEGIN:VTIMEZONE
TZID:Europe/Paris
BEGIN:DAYLIGHT
TZOFFSETFROM:+0100
TZOFFSETTO:+0200
TZNAME:CEST
DTSTART:20230326T010000
END:DAYLIGHT
BEGIN:STANDARD
TZOFFSETFROM:+0200
TZOFFSETTO:+0100
TZNAME:CET
DTSTART:20231029T010000
END:STANDARD
BEGIN:DAYLIGHT
TZOFFSETFROM:+0100
TZOFFSETTO:+0200
TZNAME:CEST
DTSTART:20240331T010000
END:DAYLIGHT
BEGIN:STANDARD
TZOFFSETFROM:+0200
TZOFFSETTO:+0100
TZNAME:CET
DTSTART:20241027T010000
END:STANDARD
BEGIN:DAYLIGHT
TZOFFSETFROM:+0100
TZOFFSETTO:+0200
TZNAME:CEST
DTSTART:20250330T010000
END:DAYLIGHT
BEGIN:STANDARD
TZOFFSETFROM:+0200
TZOFFSETTO:+0100
TZNAME:CET
DTSTART:20251026T010000
END:STANDARD
END:VTIMEZONE
BEGIN:VEVENT
DTSTART;TZID=Europe/Paris:20240913T183000
DTEND;TZID=Europe/Paris:20240913T210000
DTSTAMP:20260422T180839
CREATED:20240905T092522Z
LAST-MODIFIED:20240905T092522Z
UID:9709-1726252200-1726261200@mjcteyran.com
SUMMARY:Play the game : soirée jeux
DESCRIPTION:Des moments joueurs seront animés par la médiathèque\, la MJC\, l’Ouvre-Boîte\, et Hérault Quest proposera pour les adolescents un atelier peinture sur figurine. \nPour tous les âges\, venez tester et jouer à divers jeux de société\, animée par des passionnés de jeux. \nRendez-vous le vendredi 13 septembre à partir de 18h30 au niveau\nde la salle des Fêtes avec un barbecue partagé \n(participation au barbecue 2 €/personne). \nInfos et inscription : evs@mjcteyran.com\n06 70 94 71 10
URL:https://mjcteyran.com/evenement/play-the-game-soiree-jeux/
LOCATION:Salle des fêtes\, Teyran
ATTACH;FMTTYPE=image/png:https://mjcteyran.com/wp-content/uploads/2024/09/soirees-matinees-jeux-2024-252.png
END:VEVENT
BEGIN:VEVENT
DTSTART;TZID=Europe/Paris:20240915T090000
DTEND;TZID=Europe/Paris:20240915T140000
DTSTAMP:20260422T180839
CREATED:20240905T092942Z
LAST-MODIFIED:20240905T092942Z
UID:9713-1726390800-1726408800@mjcteyran.com
SUMMARY:Trail des Vendanges
DESCRIPTION:La MJC vous donne rendez-vous le dimanche 15 septembre pour le Trail Des Vendanges ! \nTrois distances vous sont proposées : \n9h00 – 21.3 km 225D+ : épreuve principale qui emmène les coureurs à travers des sentiers offrant des vues panoramiques sur les paysages pittoresques de la région. \n9h00 – 12\,5 km | 105D+ : distance intermédiaire conçue pour accueillir les coureurs qui souhaitent relever un défi moins exigeant tout en profitant de l’ambiance unique du Trail des Vendanges. \n9h45 – 6\,7 km | 70D+ (ouvert aux coureurs et marcheurs) : plus court\, ce tracé est idéal pour ceux qui veulent découvrir le monde du trail\, ou pour profiter d’une balade active à travers les vignobles. \n11h15 : courses enfants\, gratuites (enfants nés entre 2010 et 2018). \nInscriptions adultes : \n• Jusqu’au samedi 14/09 midi : www.3wsport.com \n• Le dimanche 15/09 : à la salle des Fêtes jusqu’à 30 min\navant le départ de la course. \nInscriptions enfants :\n• Samedi 07/09 : de 9h à 13h au forum des associations\n• Jusqu’au samedi 14/09 midi : www.3wsport.com\n• Le dimanche 15/09 : à la salle des fêtes jusqu’à 10h30 \nRetrouvez toutes les informations pratiques sur notre page Facebook https://www.facebook.com/traildesvendanges
URL:https://mjcteyran.com/evenement/trail-des-vendanges/
ATTACH;FMTTYPE=image/png:https://mjcteyran.com/wp-content/uploads/2024/09/LOGO-TDV-20242.png
END:VEVENT
BEGIN:VEVENT
DTSTART;TZID=Europe/Paris:20240921T160000
DTEND;TZID=Europe/Paris:20240921T180000
DTSTAMP:20260422T180839
CREATED:20240905T093235Z
LAST-MODIFIED:20240905T093235Z
UID:9717-1726934400-1726941600@mjcteyran.com
SUMMARY:Sortie famille : Koh Lanta
DESCRIPTION:Participez en famille à une journée d’aventures et de défis inspirés de l’émission « Koh Lanta »\, avec des activités en plein air et des\népreuves ludiques. \nGratuit sur inscription :\nevs@mjcteyran.com\n06 70 94 71 10
URL:https://mjcteyran.com/evenement/sortie-famille-koh-lanta/
LOCATION:MJC TEYRAN\, rue des sports\, teyran\, 34820
ATTACH;FMTTYPE=image/png:https://mjcteyran.com/wp-content/uploads/2024/09/Sortie_famille_automne.png
END:VEVENT
BEGIN:VEVENT
DTSTART;TZID=Europe/Paris:20240927T180000
DTEND;TZID=Europe/Paris:20240927T200000
DTSTAMP:20260422T180839
CREATED:20240905T094123Z
LAST-MODIFIED:20240905T094123Z
UID:9720-1727460000-1727467200@mjcteyran.com
SUMMARY:Pot des potes en musique
DESCRIPTION:Le pot des potes c’est un temps convivial\, de rencontre\, de jeux avec des parents\, des enfants\, des potes\, en situation de handicap ou non\, et surtout des échanges. \nRendez-vous le 27 septembre à 18h à la MJC avec E.R.A.M.I.S\, l’EVS et l’Espace Jeunes pour un Just Dance endiablé. \nInfos et inscriptions :\nevs@mjcteyran.com\n06 70 94 71 10
URL:https://mjcteyran.com/evenement/pot-des-potes-en-musique/
LOCATION:MJC TEYRAN\, rue des sports\, teyran\, 34820
ATTACH;FMTTYPE=image/png:https://mjcteyran.com/wp-content/uploads/2024/09/pot_des_potes_sept2024.png
END:VEVENT
END:VCALENDAR