BEGIN:VCALENDAR
VERSION:2.0
PRODID:-//MJC Teyran - ECPv6.15.20//NONSGML v1.0//EN
CALSCALE:GREGORIAN
METHOD:PUBLISH
X-ORIGINAL-URL:https://mjcteyran.com
X-WR-CALDESC:Évènements pour MJC Teyran
REFRESH-INTERVAL;VALUE=DURATION:PT1H
X-Robots-Tag:noindex
X-PUBLISHED-TTL:PT1H
BEGIN:VTIMEZONE
TZID:Europe/Paris
BEGIN:DAYLIGHT
TZOFFSETFROM:+0100
TZOFFSETTO:+0200
TZNAME:CEST
DTSTART:20230326T010000
END:DAYLIGHT
BEGIN:STANDARD
TZOFFSETFROM:+0200
TZOFFSETTO:+0100
TZNAME:CET
DTSTART:20231029T010000
END:STANDARD
BEGIN:DAYLIGHT
TZOFFSETFROM:+0100
TZOFFSETTO:+0200
TZNAME:CEST
DTSTART:20240331T010000
END:DAYLIGHT
BEGIN:STANDARD
TZOFFSETFROM:+0200
TZOFFSETTO:+0100
TZNAME:CET
DTSTART:20241027T010000
END:STANDARD
BEGIN:DAYLIGHT
TZOFFSETFROM:+0100
TZOFFSETTO:+0200
TZNAME:CEST
DTSTART:20250330T010000
END:DAYLIGHT
BEGIN:STANDARD
TZOFFSETFROM:+0200
TZOFFSETTO:+0100
TZNAME:CET
DTSTART:20251026T010000
END:STANDARD
END:VTIMEZONE
BEGIN:VEVENT
DTSTART;TZID=Europe/Paris:20240705T183000
DTEND;TZID=Europe/Paris:20240705T210000
DTSTAMP:20260422T213125
CREATED:20240627T095441Z
LAST-MODIFIED:20240627T095441Z
UID:9393-1720204200-1720213200@mjcteyran.com
SUMMARY:Soirée jeux de société et barbecue
DESCRIPTION:Venez fêter l’été autour d’une soirée jeux. La MJC et la médiathèque s’allient à l’Ouvre-boîte pour vous proposer des jeux de société\, des jeux de plateau\, des petits jeux\, des jeux en bois… et un barbecue ! Vous pouvez venir avec vos brochettes\, il yaura sur place du pain\, des sauces\, des chipolatas et des merguez et une option végétarienne. \nParticipation 2 €. \nInfos et inscriptions : evs@mjcteyran.com\n06 70 94 71 10
URL:https://mjcteyran.com/evenement/soiree-jeux-de-societe-et-barbecue/
LOCATION:MJC TEYRAN\, rue des sports\, teyran\, 34820
ATTACH;FMTTYPE=image/png:https://mjcteyran.com/wp-content/uploads/2024/06/soirees-matinees-jeux-2024-251.png
END:VEVENT
BEGIN:VEVENT
DTSTART;TZID=Europe/Paris:20240707T080000
DTEND;TZID=Europe/Paris:20240707T130000
DTSTAMP:20260422T213125
CREATED:20240426T155012Z
LAST-MODIFIED:20240627T095620Z
UID:8407-1720339200-1720357200@mjcteyran.com
SUMMARY:Vide grenier
DESCRIPTION:Vos armoires débordent\, vous avez fait le ménage de printemps…Ou alors vous adorez faire des affaires\, aimez les objets ayant déjà une première vie\, ou encore trouver des objets d’antiquité….ça tombe bien ! \nLe Vide-Grenier de l’école de Musique de la MJC de Teyran vous attend le dimanche 7 juillet de 8h à 13h.  \nLes exposants pourront arriver et s’installer à partir de 6h. \nUne buvette avec un café\, du thé\, des boissons\, gâteaux et autres délices sera proposée sur place. \nEn cas de pluie\, l’événement sera annulé pour tous les exposants\, y compris ceux qui seront à l’intérieur. \nPour les exposants : pensez à vous inscrire en ligne sur le compte Hello Asso. \nNous vous attendons nombreux pour vendre ou pour chiner !
URL:https://mjcteyran.com/evenement/vide-grenier/
LOCATION:Salle des fêtes\, Teyran
ATTACH;FMTTYPE=image/png:https://mjcteyran.com/wp-content/uploads/2024/04/Vide-Grenier_Teyran_28-Avril_v11.png
END:VEVENT
BEGIN:VEVENT
DTSTART;TZID=Europe/Paris:20240708T090000
DTEND;TZID=Europe/Paris:20240726T170000
DTSTAMP:20260422T213125
CREATED:20240329T145415Z
LAST-MODIFIED:20240604T100149Z
UID:8320-1720429200-1722013200@mjcteyran.com
SUMMARY:Stages Eté - du 8 au 26 Juillet 2024
DESCRIPTION:Du 8 au 12 JUILLET 2024 : \n\nPeinture – A la Découverte des grands peintres : 9h30 – 12h / à partir de 6 ans – Découverte de 5 grands peintres et de ses peintures et recréer une peinture à leur manière.\nFabrique à spectacles : 10h – 12h / à partir de 7 ans – Stage mêlant du théâtre et de la danse. Création d’un petit spectacle à partir des envies des enfants.  Initiation aux techniques de la scène : posture\,\nSculpture sur argile : à partir de 7 ans – Apprentissage des bases techniques de sculpture sur argile  production d’une ou deux sculptures.Du 15 au 19 JUILLET 2024 :\n\n\n Dessin / Peinture : 9h30 – 12h / à partir de 6 ans – Réalisation de diverses créations artistiques permettant de découvrir différentes techniques de dessin et penture.\nCollage / Mosaïque : 14h – 16h / 6-12 ans – Création d’œuvres artistiques.\n\nDu 22 au 26 JUILLET 2024 : \n\nArt Fluide / Pouring : 9h30 – 12h / à partir de 6 ans – Découverte de l’art fluide – Réalisation de 3 toiles et d’une pendule/horloge.\n\nInscription : accueil@mjcteyran.com – 04 67 70 70 80
URL:https://mjcteyran.com/evenement/stages-ete-du-8-au-26-juillet-2024/
LOCATION:MJC TEYRAN\, rue des sports\, teyran\, 34820
CATEGORIES:Stage
ATTACH;FMTTYPE=image/png:https://mjcteyran.com/wp-content/uploads/2024/04/Stages-Ete3-e1716988506729.png
END:VEVENT
END:VCALENDAR