BEGIN:VCALENDAR
VERSION:2.0
PRODID:-//MJC Teyran - ECPv6.15.20//NONSGML v1.0//EN
CALSCALE:GREGORIAN
METHOD:PUBLISH
X-ORIGINAL-URL:https://mjcteyran.com
X-WR-CALDESC:Évènements pour MJC Teyran
REFRESH-INTERVAL;VALUE=DURATION:PT1H
X-Robots-Tag:noindex
X-PUBLISHED-TTL:PT1H
BEGIN:VTIMEZONE
TZID:Europe/Paris
BEGIN:DAYLIGHT
TZOFFSETFROM:+0100
TZOFFSETTO:+0200
TZNAME:CEST
DTSTART:20230326T010000
END:DAYLIGHT
BEGIN:STANDARD
TZOFFSETFROM:+0200
TZOFFSETTO:+0100
TZNAME:CET
DTSTART:20231029T010000
END:STANDARD
BEGIN:DAYLIGHT
TZOFFSETFROM:+0100
TZOFFSETTO:+0200
TZNAME:CEST
DTSTART:20240331T010000
END:DAYLIGHT
BEGIN:STANDARD
TZOFFSETFROM:+0200
TZOFFSETTO:+0100
TZNAME:CET
DTSTART:20241027T010000
END:STANDARD
BEGIN:DAYLIGHT
TZOFFSETFROM:+0100
TZOFFSETTO:+0200
TZNAME:CEST
DTSTART:20250330T010000
END:DAYLIGHT
BEGIN:STANDARD
TZOFFSETFROM:+0200
TZOFFSETTO:+0100
TZNAME:CET
DTSTART:20251026T010000
END:STANDARD
END:VTIMEZONE
BEGIN:VEVENT
DTSTART;TZID=Europe/Paris:20240601T100000
DTEND;TZID=Europe/Paris:20240601T120000
DTSTAMP:20260422T225449
CREATED:20240412T130501Z
LAST-MODIFIED:20240412T130501Z
UID:8380-1717236000-1717243200@mjcteyran.com
SUMMARY:Ciné tout petits
DESCRIPTION:Venez découvrir une séance de cinéma spécialement conçue pour les tout petits. Au programme : des courts métrages adaptés aux petits\, une lumière douce et tamisée\, un niveau sonore adapté aux jeunes oreilles\, une durée de projection adaptée au jeune public avec des séances qui durent 30 minutes. Rdv le 1er juin à la médiathèque de Teyran à 10\, 10H30\, 11\, ou 11H30. \n  \nInfos et inscriptions : 06 70 94 71 10 evs@mjcteyran.com
URL:https://mjcteyran.com/evenement/cine-tout-petits/
LOCATION:Médiathèque\, Cour du Charron\, Teyran\, 34820\, France
END:VEVENT
BEGIN:VEVENT
DTSTART;TZID=Europe/Paris:20240601T143000
DTEND;TZID=Europe/Paris:20240602T170000
DTSTAMP:20260422T225449
CREATED:20240328T105234Z
LAST-MODIFIED:20240328T105426Z
UID:8306-1717252200-1717347600@mjcteyran.com
SUMMARY:Stage Peinture Fluide
DESCRIPTION:Stage de peinture fluide 1er et 2 juin de 14H30 à 17H  \nVenez libérer votre créativité et faites danser vos couleurs sur la toile. L’art fluide est une technique de peinture qui consiste à faire glisser sur un support (toile\, objets de décoration…) à l’aide d’un gobelet\, de la peinture mélangée à ce qu’on appelle un médium de lissage. Un espace où tout est possible\, où l’on échoue jamais\, un espace de jeu\, de méditation et de fluidité pour se retrouver. \nIci : pas de prérequis\, pas d’attente\, pas de pression\, juste le plaisir de se laisser aller et de créer un projet unique.  \nStage tout public à partir de 6 ans \nTarif : 80€ le weekend (5h) \nInfos : 06 84 60 50 25 Frédérique Chabert (Facebook : Femmes divines) \nInscription : accueil@mjcteyran.com – 04 67 70 70 80
URL:https://mjcteyran.com/evenement/stage-peinture-fluide-week-end-du-1er-et-2-juin-14h30-17h/
ATTACH;FMTTYPE=image/png:https://mjcteyran.com/wp-content/uploads/2024/03/Stage-Peinture-Fluide.png
END:VEVENT
BEGIN:VEVENT
DTSTART;TZID=Europe/Paris:20240601T153000
DTEND;TZID=Europe/Paris:20240601T190000
DTSTAMP:20260422T225449
CREATED:20240412T130622Z
LAST-MODIFIED:20240412T130622Z
UID:8382-1717255800-1717268400@mjcteyran.com
SUMMARY:Sortie famille : festival Jeune Public La dinette
DESCRIPTION:La MJC vous propose une incroyable sortie famille au festival Jeune Public La dinette\, cadre idyllique et festif pour accueillir l’été ! Départ le 1er juin à 15H30 en minibus et covoiturage depuis la MJC en direction du Causse de la selle. Arrivée pour le goûter\, découverte du lieux et des jeux\, 18H\, spectacle de cirque aérien tout public. Un moment familial de partage autour d’une chouette programmation. \n  \nInfos et inscriptions : evs@mjcteyran.com 06 70 94 71 10
URL:https://mjcteyran.com/evenement/sortie-famille-festival-jeune-public-la-dinette/
LOCATION:Causse de la Selle (Bouillon Cube)\, Causse de la Selle\, France
ATTACH;FMTTYPE=image/png:https://mjcteyran.com/wp-content/uploads/2024/04/sortie-famille-la-dinette-1.png
END:VEVENT
BEGIN:VEVENT
DTSTART;TZID=Europe/Paris:20240608T190000
DTEND;TZID=Europe/Paris:20240608T190000
DTSTAMP:20260422T225449
CREATED:20240604T073851Z
LAST-MODIFIED:20240604T103004Z
UID:8560-1717873200-1717873200@mjcteyran.com
SUMMARY:Spectacle de Théâtre
DESCRIPTION:SAMEDI 08 JUIN A 19H ET DIMANCHE 09 JUIN A 16H :  \n2 pièces présentées et jouées par les jeunes de la MJC de Teyran et mises en scène par Charlotte PELLETIER. \nCendrillon de Joël Pommerat \nAvec son père\, Sandra part vivre chez sa future belle-mère dans une maison de verre peu accueillante. Traitée comme la bonne à tout faire et surnommée Cendrier\, Sandra ne se défend pas et n’a qu’une obsession : ne jamais arrêter de penser à sa mère de peur que cette dernière ne “meure pour de vrai”. \nÉtendre ses branches sur le monde de Cécile Mouvet \nDans le pays de Lia\, quand un enfant naît\, la famille plante un arbre dans la cour de la maison. Très vite pourtant\, elle remarque qu’il n’y a jamais qu’un arbre par maison. Un jour\, sa maman disparaît. Tout le monde s’inquiète de son absence.
URL:https://mjcteyran.com/evenement/spectacle-de-theatre/
LOCATION:MJC TEYRAN\, rue des sports\, teyran\, 34820
CATEGORIES:Spectacle
ATTACH;FMTTYPE=image/png:https://mjcteyran.com/wp-content/uploads/2024/06/theatre2024-e1717496986974.png
END:VEVENT
BEGIN:VEVENT
DTSTART;TZID=Europe/Paris:20240609T160000
DTEND;TZID=Europe/Paris:20240609T160000
DTSTAMP:20260422T225449
CREATED:20240604T074120Z
LAST-MODIFIED:20240604T075211Z
UID:8563-1717948800-1717948800@mjcteyran.com
SUMMARY:Spectacle de théâtre
DESCRIPTION:SAMEDI 08 JUIN A 19H ET DIMANCHE 09 JUIN A 16H :  \n2 pièces présentées et jouées par les jeunes de la MJC de Teyran et mises en scène par Charlotte PELLETIER. \nCendrillon de Joël Pommerat \nAvec son père\, Sandra part vivre chez sa future belle-mère dans une maison de verre peu accueillante. Traitée comme la bonne à tout faire et surnommée Cendrier\, Sandra ne se défend pas et n’a qu’une obsession : ne jamais arrêter de penser à sa mère de peur que cette dernière ne “meure pour de vrai”. \nÉtendre ses branches sur le monde de Cécile Mouvet \nDans le pays de Lia\, quand un enfant naît\, la famille plante un arbre dans la cour de la maison. Très vite pourtant\, elle remarque qu’il n’y a jamais qu’un arbre par maison. Un jour\, sa maman disparaît. Tout le monde s’inquiète de son absence.
URL:https://mjcteyran.com/evenement/spectacle-de-theatre-2/
LOCATION:MJC TEYRAN\, rue des sports\, teyran\, 34820
CATEGORIES:Spectacle
ATTACH;FMTTYPE=image/png:https://mjcteyran.com/wp-content/uploads/2024/06/theatre2024-e1717496986974.png
END:VEVENT
BEGIN:VEVENT
DTSTART;TZID=Europe/Paris:20240615T110000
DTEND;TZID=Europe/Paris:20240615T110000
DTSTAMP:20260422T225449
CREATED:20240604T080409Z
LAST-MODIFIED:20240604T103156Z
UID:8571-1718449200-1718449200@mjcteyran.com
SUMMARY:CONCERT de MUSIQUE (MJC)
DESCRIPTION:SAMEDI 15 JUIN : CONCERT DE LA SECTION MUSIQUE DE LA MJC DE TEYRAN  \nLes musiciens amateurs de la MJC de Teyran\, comprenant des enfants et des adolescents\, se produiront en solo ou en groupe\, offrant une palette variée de morceaux musicaux. Parmi les instruments présentés\, on pourra notamment apprécier le violon\, la guitare\, le piano et la batterie. \nLe nouveau groupe d’ensemble de la MJC formé de 4 musiciens clôturera le concert. \n« La musique est un talent de tous les temps et de tous les lieux\, son pouvoir sublime élève l’âme. » Jacques-Henri Bernardin de Saint-Pierre
URL:https://mjcteyran.com/evenement/concert-de-musique-mjc/
LOCATION:Salle des fêtes\, Teyran
ATTACH;FMTTYPE=image/png:https://mjcteyran.com/wp-content/uploads/2024/06/CONCERT-MUSIQUE-2024-e1717497106438.png
END:VEVENT
BEGIN:VEVENT
DTSTART;TZID=Europe/Paris:20240615T183000
DTEND;TZID=Europe/Paris:20240615T183000
DTSTAMP:20260422T225449
CREATED:20240604T081454Z
LAST-MODIFIED:20240604T103428Z
UID:8576-1718476200-1718476200@mjcteyran.com
SUMMARY:Concert CHORALE "La clef des Chants"
DESCRIPTION:Chorale de la MJC : “La Clef des chants”  \n18h30 Eglise et Parvis de l’église  \nLa chorale La Clef des chants » composée d’une trentaine de choristes\, sous la direction de la cheffe de chœur Joséphine Bourgeois\, présentera un programme comprenant des chants sacrés ainsi que des chansons populaires françaises et étrangères.
URL:https://mjcteyran.com/evenement/concert-chorale-la-clef-des-chants/
LOCATION:Eglise
ATTACH;FMTTYPE=image/jpeg:https://mjcteyran.com/wp-content/uploads/2023/07/MJC-Chorale-fete_musique_2015-e1717496866964.jpg
END:VEVENT
BEGIN:VEVENT
DTSTART;TZID=Europe/Paris:20240616T190000
DTEND;TZID=Europe/Paris:20240616T190000
DTSTAMP:20260422T225449
CREATED:20240604T082810Z
LAST-MODIFIED:20240604T084114Z
UID:8582-1718564400-1718564400@mjcteyran.com
SUMMARY:Danse Contemporaine - UN CERTAIN DÉSORDRE
DESCRIPTION:DIMANCHE 16 JUIN A 19H A LA MJC : SORTIE DE RESIDENCE DE DANSE CONTEMPORAINE  \nEn avant-première du spectacle de fin d’année\, nous sommes heureux de vous convier à la sortie de résidence de notre projet 2024 \, \nDimanche 16 Juin à 19H Salle de danse de la MJC de Teyran \nUn certain désordre\,  Pièce pour 7 danseuses (durée : 25 min) \n“ Ce que tu sembles doit être ce que tu es\, et ce que tu es \, est en désordre\, tu le portes à l’intérieur” \nRéservation Indispensable avant le 12 Juin \nJauge salle de danse restreinte (40 places) \n 
URL:https://mjcteyran.com/evenement/danse-contemporaine-un-certain-desordre-2/
LOCATION:MJC TEYRAN\, rue des sports\, teyran\, 34820
ATTACH;FMTTYPE=image/png:https://mjcteyran.com/wp-content/uploads/2024/06/Un-certain-desordre-Crea-24-1-1-e1717490465390.png
END:VEVENT
BEGIN:VEVENT
DTSTART;TZID=Europe/Paris:20240620T193000
DTEND;TZID=Europe/Paris:20240620T213000
DTSTAMP:20260422T225449
CREATED:20240612T125635Z
LAST-MODIFIED:20240612T125635Z
UID:8866-1718911800-1718919000@mjcteyran.com
SUMMARY:Apéro conf : Qu'est-ce qui nous rend heureux ?
DESCRIPTION:Le jeudi 20 juin à 19H30\, la MJC vous invite à rencontrer Christel Touret\, coach de vie\, lors d’une conférence sur le bonheur. \nNous nous y demanderons d’abord  : “pourquoi être heureux à notre époque ?” et réfléchirons ensuite à ce qui nous rend heureux durablement. Cette conférence s’appuie sur les recherches du Dr R.Cloninger de l’université Saint Louis (Missouri)\, auteur du livre Se sentir bien : la science du bien-être – créateur du test de personnalité ITC (inventaire du tempérament et du caractère). A l’issue de la conférence\, nous pourrons échanger autour d’un apéritif. \n  \nGratuit sur inscription : evs@mjcteyran.com 06 70 94 71 10
URL:https://mjcteyran.com/evenement/apero-conf-quest-ce-qui-nous-rend-heureux/
LOCATION:MJC TEYRAN\, rue des sports\, teyran\, 34820
ATTACH;FMTTYPE=image/png:https://mjcteyran.com/wp-content/uploads/2024/06/conf-bonheur-2005241-3.png
END:VEVENT
BEGIN:VEVENT
DTSTART;TZID=Europe/Paris:20240622T100000
DTEND;TZID=Europe/Paris:20240622T120000
DTSTAMP:20260422T225449
CREATED:20240412T131606Z
LAST-MODIFIED:20240412T131606Z
UID:8385-1719050400-1719057600@mjcteyran.com
SUMMARY:Atelier parents-enfants (ou grands-parents\, tuteurs...)
DESCRIPTION:La MJC s’associe avec Sphère Intérieure association en faveur du bien-être\, du mieux-être\, de la prévention de la santé et du développement personnel pour vous proposer un atelier inter-générationnel ! \nVenez passer un moment convivial autour d’un petit déjeuné suivi d’un atelier accessible à toutes et tous autour d’outils : \n\nrelaxation\ngestion des émotions\nsophrologie\nyoga du rire\n\n3€/personne \nInfos et inscriptions : evs@mjcteyran.com 06 70 94 71 10
URL:https://mjcteyran.com/evenement/atelier-parents-enfants-ou-grands-parents-tuteurs/
LOCATION:MJC TEYRAN\, rue des sports\, teyran\, 34820
ATTACH;FMTTYPE=image/png:https://mjcteyran.com/wp-content/uploads/2024/04/affiche-cafe-parents-yoga-du-rire2.png
END:VEVENT
BEGIN:VEVENT
DTSTART;TZID=Europe/Paris:20240622T203000
DTEND;TZID=Europe/Paris:20240622T203000
DTSTAMP:20260422T225449
CREATED:20240604T083215Z
LAST-MODIFIED:20240604T103300Z
UID:8585-1719088200-1719088200@mjcteyran.com
SUMMARY:GALA DANSE ADAPTEE
DESCRIPTION:SAMEDI 22 JUIN A 20H30 : GALA DE LA DANSE ADAPTEE \nA travers leurs chemins et leurs émotions\, les danseurs des ateliers de Danse Adaptée vous proposent une nouvelle création chorégraphique originale et participative : \n« CO-ERRANCE » \nAvec la participation de RØM\, artiste sculpteur. \nRDV samedi 22 juin à 20h30\, Salle des Fêtes de Teyran. \nParticipation libre
URL:https://mjcteyran.com/evenement/gala-danse-adaptee/
LOCATION:Salle des fêtes\, Teyran
ATTACH;FMTTYPE=image/jpeg:https://mjcteyran.com/wp-content/uploads/2024/06/AFFICHE-CO-ERRANCE-260524-scaled-e1717497171638.jpg
END:VEVENT
BEGIN:VEVENT
DTSTART;TZID=Europe/Paris:20240623T203000
DTEND;TZID=Europe/Paris:20240623T203000
DTSTAMP:20260422T225449
CREATED:20240604T102014Z
LAST-MODIFIED:20240604T103340Z
UID:8590-1719174600-1719174600@mjcteyran.com
SUMMARY:GALA DANSE CONTEMPORAINE
DESCRIPTION:DIMANCHE 23 : GALA DE LA DANSE CONTEMPORAINE A 20H30 \nEntre influences de grands maîtres et libres inspirations\,  les ateliers  de danse contemporaine de la MJC de Teyran présentent un spectacle mêlant Turbulences et  Esthétique. \nRéservations impératives \nSalle des Fêtes \nEntrée libre \n 
URL:https://mjcteyran.com/evenement/gala-danse-contemporaine/
LOCATION:Salle des fêtes\, Teyran
ATTACH;FMTTYPE=image/png:https://mjcteyran.com/wp-content/uploads/2024/06/affiche-danse-Marilyne-2-e1717497211173.png
END:VEVENT
END:VCALENDAR