BEGIN:VCALENDAR
VERSION:2.0
PRODID:-//MJC Teyran - ECPv6.15.20//NONSGML v1.0//EN
CALSCALE:GREGORIAN
METHOD:PUBLISH
X-WR-CALNAME:MJC Teyran
X-ORIGINAL-URL:https://mjcteyran.com
X-WR-CALDESC:Évènements pour MJC Teyran
REFRESH-INTERVAL;VALUE=DURATION:PT1H
X-Robots-Tag:noindex
X-PUBLISHED-TTL:PT1H
BEGIN:VTIMEZONE
TZID:Europe/Paris
BEGIN:DAYLIGHT
TZOFFSETFROM:+0100
TZOFFSETTO:+0200
TZNAME:CEST
DTSTART:20230326T010000
END:DAYLIGHT
BEGIN:STANDARD
TZOFFSETFROM:+0200
TZOFFSETTO:+0100
TZNAME:CET
DTSTART:20231029T010000
END:STANDARD
BEGIN:DAYLIGHT
TZOFFSETFROM:+0100
TZOFFSETTO:+0200
TZNAME:CEST
DTSTART:20240331T010000
END:DAYLIGHT
BEGIN:STANDARD
TZOFFSETFROM:+0200
TZOFFSETTO:+0100
TZNAME:CET
DTSTART:20241027T010000
END:STANDARD
BEGIN:DAYLIGHT
TZOFFSETFROM:+0100
TZOFFSETTO:+0200
TZNAME:CEST
DTSTART:20250330T010000
END:DAYLIGHT
BEGIN:STANDARD
TZOFFSETFROM:+0200
TZOFFSETTO:+0100
TZNAME:CET
DTSTART:20251026T010000
END:STANDARD
END:VTIMEZONE
BEGIN:VEVENT
DTSTART;TZID=Europe/Paris:20240406T160000
DTEND;TZID=Europe/Paris:20240406T180000
DTSTAMP:20260423T014757
CREATED:20240326T155630Z
LAST-MODIFIED:20240326T155630Z
UID:8289-1712419200-1712426400@mjcteyran.com
SUMMARY:Stage Dessin et Aquarelle - Tout public à partir de 8 ans
DESCRIPTION:Samedi 6 et/ou 13 avril : Stage aquarelle et dessin (tout public à partir de 8 ans) \nPas besoin d’avoir des bases de dessin ou de peinture\, Mimi est là pour vous initier et découvrir ensemble les différentes techniques de dessin et d’aquarelle. \nL’essentiel de cette démarche étant de passer un bon moment de convivialité et de partage dans la bonne humeur et de développer sa propre créativité. \n15€/personne  \nMatériel fourni \nInscriptions : accueil@mjcteyran.com -04 67 70 70 80
URL:https://mjcteyran.com/evenement/stage-dessin-et-aquarelle-tout-public-a-partir-de-8-ans/
ATTACH;FMTTYPE=image/jpeg:https://mjcteyran.com/wp-content/uploads/2024/03/Stage-de-Dessin-et-Aquarelle.jpg
END:VEVENT
BEGIN:VEVENT
DTSTART;TZID=Europe/Paris:20240408T090000
DTEND;TZID=Europe/Paris:20240420T170000
DTSTAMP:20260423T014757
CREATED:20240308T155813Z
LAST-MODIFIED:20240326T160339Z
UID:8190-1712566800-1713632400@mjcteyran.com
SUMMARY:Stages de Printemps
DESCRIPTION:Stages Vacances de Printemps \n\nVoici les stages pour les vacances de printemps. Il y en a pour tous les goûts\, pour tous les âges : Cirque\, Yoga du Rire\, Couture\, Dessin\, Argile\, Zumba\, Flamenco\, Aquarelle\, Teyran Jeux.Pensez à vous inscrire ou inscrire vos enfants ou petits-enfants.Il sera possible de manger sur place pour les enfants inscrits le matin et l’après-midi à des stages.Pour plus de renseignement\, n’hésitez pas à nous contacter.
URL:https://mjcteyran.com/evenement/stages-de-printemps/
CATEGORIES:Stage
ATTACH;FMTTYPE=image/png:https://mjcteyran.com/wp-content/uploads/2024/02/Stages-Printemps.png
END:VEVENT
BEGIN:VEVENT
DTSTART;TZID=Europe/Paris:20240408T100000
DTEND;TZID=Europe/Paris:20240420T220000
DTSTAMP:20260423T014757
CREATED:20240329T123926Z
LAST-MODIFIED:20240329T123926Z
UID:8311-1712570400-1713650400@mjcteyran.com
SUMMARY:Vacances à l'EJ !
DESCRIPTION:Vacances à l’EJ ! \n\nL’EJ est ouvert du lundi au vendredi sur les deux semaines de 10h à 18h ou bien même 14h voir 22h ! Cela dépend du programme.\nVous pouvez le trouver sur la page « Espace Jeunes ».\nPour plus de renseignement\, n’hésitez pas à nous contacter.
URL:https://mjcteyran.com/evenement/vacances-a-lej/
LOCATION:Espace Jeunes\, Rue des sports\, Teyran\, 34820\, France
CATEGORIES:Stage
END:VEVENT
BEGIN:VEVENT
DTSTART;TZID=Europe/Paris:20240413T160000
DTEND;TZID=Europe/Paris:20240413T180000
DTSTAMP:20260423T014757
CREATED:20240326T160518Z
LAST-MODIFIED:20240326T160518Z
UID:8295-1713024000-1713031200@mjcteyran.com
SUMMARY:Stage Dessin et Aquarelle - Tout public à partir de 8 ans
DESCRIPTION:Samedi 6 et/ou 13 avril : Stage aquarelle et dessin (tout public à partir de 8 ans) \nPas besoin d’avoir des bases de dessin ou de peinture\, Mimi est là pour vous initier et découvrir ensemble les différentes techniques de dessin et d’aquarelle. \nL’essentiel de cette démarche étant de passer un bon moment de convivialité et de partage dans la bonne humeur et de développer sa propre créativité. \n15€/personne  \nMatériel fourni \nInscriptions : accueil@mjcteyran.com -04 67 70 70 80
URL:https://mjcteyran.com/evenement/stage-dessin-et-aquarelle-tout-public-a-partir-de-8-ans-2/
ATTACH;FMTTYPE=image/jpeg:https://mjcteyran.com/wp-content/uploads/2024/03/Stage-de-Dessin-et-Aquarelle.jpg
END:VEVENT
BEGIN:VEVENT
DTSTART;TZID=Europe/Paris:20240419T193000
DTEND;TZID=Europe/Paris:20240419T213000
DTSTAMP:20260423T014757
CREATED:20240412T125232Z
LAST-MODIFIED:20240412T125232Z
UID:8353-1713555000-1713562200@mjcteyran.com
SUMMARY:Soirée ciné-pizzas : parents-ados
DESCRIPTION:Séance ciné-pizzas pour les ados et les adultes à la MJC. Venez découvrir une sélection de courts-métrages sur des thèmes citoyens ! Au programme des échanges\, des jeux et pour discuter autour du film sans oublier les pizzas. Venez nombreux. \n  \nRDV le 19 avril 2024 à 19H30 à la MJC \nParticipation : 2€ \ninscriptions : evs@mjcteyran.com 06 70 94 71 10
URL:https://mjcteyran.com/evenement/soiree-cine-pizzas-parents-ados/
LOCATION:Espace Jeunes\, Rue des sports\, Teyran\, 34820\, France
ATTACH;FMTTYPE=image/png:https://mjcteyran.com/wp-content/uploads/2024/04/cine-pizzas-190424.png
END:VEVENT
BEGIN:VEVENT
DTSTART;TZID=Europe/Paris:20240425T203000
DTEND;TZID=Europe/Paris:20240425T220000
DTSTAMP:20260423T014757
CREATED:20240412T125358Z
LAST-MODIFIED:20240412T125358Z
UID:8361-1714077000-1714082400@mjcteyran.com
SUMMARY:Conférence : Bien grandir\, pistes pour les parents sur le surpoids chez l’enfant
DESCRIPTION:Conférence organisée par la MJC et la FCPE autour du bien grandir. Le surpoids\, ce n’est pas que manger et bouger. Découvrons ensemble des pistes sur le sujet à l’aide de Chloé Picque Vallet\, psychologue clinicienne et Laure Le Meur\, diététicienne nutritionniste. \n  \nRDV le 25 avril 2024 à 20H30 à la MJC \n  \nGratuit sur inscription : evs@mjcteyran.com 06 70 94 71 10
URL:https://mjcteyran.com/evenement/conference-bien-grandir-pistes-pour-les-parents-sur-le-surpoids-chez-lenfant/
LOCATION:MJC TEYRAN\, rue des sports\, teyran\, 34820
ATTACH;FMTTYPE=image/png:https://mjcteyran.com/wp-content/uploads/2024/04/conf-nutrition-25-avril-20241.png
END:VEVENT
BEGIN:VEVENT
DTSTART;TZID=Europe/Paris:20240426T180000
DTEND;TZID=Europe/Paris:20240426T200000
DTSTAMP:20260423T014757
CREATED:20240326T204521Z
LAST-MODIFIED:20240326T204652Z
UID:8298-1714154400-1714161600@mjcteyran.com
SUMMARY:Stage QI-GONG & VOYAGE SONORE - 26 AVRIL 18h30 - 20h30
DESCRIPTION:Stage adultes : QI-GONG & VOYAGE SONORE \nVendredi 26 Avril de 18h30 à 20h30 \nVenez vivre un moment d’équilibre physique\, psychique et spirituel par la pratique du QI-GONG durant la première heure. Une gymnastique ancestrale chinoise permettant de faire circuler l’énergie dans tout le corps par le biais de mouvements lents\, des étirements et des postures statiques. \nLa deuxième heure vous serez bercés par les vibrations d’instruments comme les bols chantants\, gong\, tambour qui vous guideront vers une profonde relaxation. \nIl ne vous reste plus qu’à vous inscrire !  \n20 € la séance de 2h. \nInformations : 06 65 05 67 56 / 06 18 66 34 91 \nRéservation : accueil@mjcteyran.com / 04.67.70.70.80
URL:https://mjcteyran.com/evenement/stage-qi-gong-voyage-sonore-26-avril-18h30-20h30/
ATTACH;FMTTYPE=image/png:https://mjcteyran.com/wp-content/uploads/2024/03/QI-GONG-VOYAGE-SONORE.png
END:VEVENT
BEGIN:VEVENT
DTSTART;TZID=Europe/Paris:20240427T093000
DTEND;TZID=Europe/Paris:20240427T140000
DTSTAMP:20260423T014757
CREATED:20240402T142146Z
LAST-MODIFIED:20240402T142146Z
UID:8343-1714210200-1714226400@mjcteyran.com
SUMMARY:Sortie famille : randonnée et pique-nique
DESCRIPTION:Venez participer à une randonnée en famille. Nous irons ensemble découvrir les cairns de Ste Croix de Quintillargues. Après une belle balade nous pique niquerons sur place\, pensez à apporter votre casse-croûte. \n\nRendez-vous à 9h30 à la MJC (co-voiturage possible) ou bien\, à 10H au parking de l’école André Planiol au 159 chemin de la Roubiore à Ste Croix de Quintillargues (précision :   Waze n’est pas bon\, accédez au parking par la rue du Mas Montels). \n\nSur inscription : evs@mjcteyran.com – 06 70 94 71 10
URL:https://mjcteyran.com/evenement/sortie-famille-randonnee-et-pique-nique/
ATTACH;FMTTYPE=image/jpeg:https://mjcteyran.com/wp-content/uploads/2024/04/WhatsApp-Image-2024-04-02-at-3.31.38-PM.jpeg
END:VEVENT
END:VCALENDAR