BEGIN:VCALENDAR
VERSION:2.0
PRODID:-//MJC Teyran - ECPv6.15.20//NONSGML v1.0//EN
CALSCALE:GREGORIAN
METHOD:PUBLISH
X-WR-CALNAME:MJC Teyran
X-ORIGINAL-URL:https://mjcteyran.com
X-WR-CALDESC:Évènements pour MJC Teyran
REFRESH-INTERVAL;VALUE=DURATION:PT1H
X-Robots-Tag:noindex
X-PUBLISHED-TTL:PT1H
BEGIN:VTIMEZONE
TZID:Europe/Paris
BEGIN:DAYLIGHT
TZOFFSETFROM:+0100
TZOFFSETTO:+0200
TZNAME:CEST
DTSTART:20250330T010000
END:DAYLIGHT
BEGIN:STANDARD
TZOFFSETFROM:+0200
TZOFFSETTO:+0100
TZNAME:CET
DTSTART:20251026T010000
END:STANDARD
BEGIN:DAYLIGHT
TZOFFSETFROM:+0100
TZOFFSETTO:+0200
TZNAME:CEST
DTSTART:20260329T010000
END:DAYLIGHT
BEGIN:STANDARD
TZOFFSETFROM:+0200
TZOFFSETTO:+0100
TZNAME:CET
DTSTART:20261025T010000
END:STANDARD
BEGIN:DAYLIGHT
TZOFFSETFROM:+0100
TZOFFSETTO:+0200
TZNAME:CEST
DTSTART:20270328T010000
END:DAYLIGHT
BEGIN:STANDARD
TZOFFSETFROM:+0200
TZOFFSETTO:+0100
TZNAME:CET
DTSTART:20271031T010000
END:STANDARD
END:VTIMEZONE
BEGIN:VEVENT
DTSTART;TZID=Europe/Paris:20260422T080000
DTEND;TZID=Europe/Paris:20260424T170000
DTSTAMP:20260422T113922
CREATED:20260319T130152Z
LAST-MODIFIED:20260319T130152Z
UID:11867-1776844800-1777050000@mjcteyran.com
SUMMARY:[Espace Jeunes] Séjour à Carcassonne
DESCRIPTION:DERNIÈRES PLACES DISPONIBLES !\n\n\n\nVous cherchez une aventure inoubliable pour votre enfant pendant les vacances ?\n\n\n\nDirection Carcassonne pour un séjour exceptionnel du 22 au 24 avril 2026 !\n\n\n\nAu programme :\n Parc australien\n Gouffre géant\n Activités autour du Lac de Cavayères\n Exploration du château\n Camp médiéval\n Veillées complètement folles\n\n\n\n– 3 jours en pension complète\n– Encadrement par 2 animatrices passionnées\n– Une ambiance fun\, immersive et pleine de surprises !\n\n\nIl ne reste que quelques places seulement\, alors ne tardez pas !\n\n\nEntre 90€ et 300€ selon quotient familial. \n\n\n Infos & réservations : ejteyran@gmail.com
URL:https://mjcteyran.com/evenement/espace-jeunes-sejour-a-carcassonne/
ATTACH;FMTTYPE=image/png:https://mjcteyran.com/wp-content/uploads/2026/01/Sejour-Carcassonne.png
END:VEVENT
BEGIN:VEVENT
DTSTART;TZID=Europe/Paris:20260422T100000
DTEND;TZID=Europe/Paris:20260422T113000
DTSTAMP:20260422T113922
CREATED:20260320T112558Z
LAST-MODIFIED:20260320T112558Z
UID:11882-1776852000-1776857400@mjcteyran.com
SUMMARY:Aquarelle parent-enfant : mercredi 22 avril\, 10h-11h30\, Point Jeunes
DESCRIPTION:Et si vous plongiez\, le temps d’un atelier\, dans un monde imaginaire où parent et enfant peignent à quatre mains\, sans attente de “bien faire”\, juste pour le plaisir de créer ensemble ? Cet atelier d’aquarelle est une invitation à lâcher-prise\, à se reconnecter dans la simplicité d’un moment partagé. Nul besoin de savoir dessiner : ici\, on laisse la magie des pigments faire son œuvre\, comme dans la relation parent-enfant quand on lui laisse l’espace d’être. Une bulle hors du quotidien pour savourer la complicité\, le rire\, les couleurs… et repartir un peu plus proches. Temps animé par Maud\, bénévole de l’EVS.  \nGratuit  \nInfos et inscriptions auprès de Clémentine : evs@mjcteyran.com ou 04 67 70 70 80.
URL:https://mjcteyran.com/evenement/aquarelle-parent-enfant-mercredi-22-avril-10h-11h30-point-jeunes/
ATTACH;FMTTYPE=image/png:https://mjcteyran.com/wp-content/uploads/2026/03/avril-2026-3.png
END:VEVENT
END:VCALENDAR